BEGIN:VCALENDAR
VERSION:2.0
PRODID:-//ChamberMaster//Event Calendar 2.0//EN
METHOD:PUBLISH
X-PUBLISHED-TTL:P3D
REFRESH-INTERVAL:P3D
CALSCALE:GREGORIAN
BEGIN:VEVENT
DTSTART:20160616T213000Z
DTEND:20160617T003000Z
X-MICROSOFT-CDO-ALLDAYEVENT:FALSE
SUMMARY:Brewing Up Business
DESCRIPTION:Learn from BUSINESS owners\, Brewers and Roaster based businesses including Four Fathers Brewing\, New Oberpfalz Brewing\, Ironwood Brewing\, Twisted K-8 Brewing\, Dagger Mountain Roastery and Maple City Roasters\, that can help you connect and create a business plan. Banking\, business\, insurance\, legal and real-estate experts will also be on hand. Listen to experts who built their Indiana business and are growing and prospering. Examine the key elements that help a small business survive in a highly competitive and accessible industry. Business panel of experts\; Jonathan Hildebrand\, Centier Bank\; Joe Laciak\, Laciak CPA\; Ken Williams\, Williams Commercial Real Estate\; Lorri Feldt\, Director Northwest Small Business Development Center and Jon Schmaltz\, Burke\, Costanza & Carberry\, LLP.
X-ALT-DESC;FMTTYPE=text/html:<span style="color: rgb(0\, 0\, 0)\; font-family: Lato\, Arial\, Helvetica\, sans-serif\; font-size: 16px\; line-height: normal\;">Learn from BUSINESS owners\, Brewers and Roaster based businesses including Four Fathers Brewing\, New Oberpfalz Brewing\, Ironwood Brewing\, Twisted K-8 Brewing\, Dagger Mountain Roastery and Maple City Roasters\, that can help you connect and create a business plan. Banking\, business\, insurance\, legal and real-estate experts will also be on hand. Listen to experts who built their Indiana business and are growing and prospering. Examine the key elements that help a small business survive in a highly competitive and accessible industry. Business panel of experts\; Jonathan Hildebrand\, Centier Bank\; Joe Laciak\, Laciak CPA\; Ken Williams\, Williams Commercial Real Estate\; Lorri Feldt\, Director Northwest Small Business Development Center and Jon Schmaltz\, Burke\, Costanza &amp\; Carberry\, LLP.</span>\n\n<div>&nbsp\;</div>\n
LOCATION:Sand Creek Country Club 1001 Sand Creek Drive S Chesterton
UID:e.1949.2554
SEQUENCE:3
DTSTAMP:20260426T033829Z
URL:https://members.laportepartnership.com/events/details/brewing-up-business-06-16-2016-2554
END:VEVENT

END:VCALENDAR
