BEGIN:VCALENDAR
VERSION:2.0
PRODID:-//ChamberMaster//Event Calendar 2.0//EN
METHOD:PUBLISH
X-PUBLISHED-TTL:P3D
REFRESH-INTERVAL:P3D
CALSCALE:GREGORIAN
BEGIN:VEVENT
DTSTART:20180816T210000Z
DTEND:20180816T230000Z
X-MICROSOFT-CDO-ALLDAYEVENT:FALSE
SUMMARY:Briar Leaf Golf Club Business After Hours
DESCRIPTION:Join us for a special Business After Hours at Briar Leaf from 4:00 p.m. to 6:00 p.m.!\n\n \n\nPGA Professional Jay Williams will conduct a putting clinic at the\n\nBriar Leaf practice green\, followed by a putting contest\n\nfor all attendees on the "Mini Masters" putting course!\n\n \n\nFor golfers and non-golfers alike.\n\nPutters and golf balls will be provided.\n\n \n\nThe Beverage Cart will be on hand for hosted refreshments as well.\n\n\n\nFor more information about the Greater La Porte Chamber of Commerce\, visit www.lpchamber.com
X-ALT-DESC;FMTTYPE=text/html:<div style="text-align: center\;"><span style="font-family:times new roman\;"><span style="font-size:16px\;"><span style="color:black\;">Join us for a special Business After Hours at Briar Leaf from 4:00 p.m. to 6:00 p.m.!</span><br />\n&nbsp\;<br />\n<span style="color:black\;">PGA Professional Jay Williams will conduct a putting clinic at the</span><br />\n<span style="color:black\;">Briar Leaf practice green\, followed by a putting contest</span><br />\n<span style="color:black\;">for all attendees on the &ldquo\;Mini Masters&rdquo\; putting course!</span><br />\n&nbsp\;<br />\n<span style="color:black\;">For golfers and non-golfers alike.</span><br />\n<span style="color:black\;">Putters and golf balls will be provided.</span><br />\n&nbsp\;<br />\n<span style="color:black\;">The Beverage Cart will be on hand for hosted refreshments as well.<br />\n<br />\nFor more information about the Greater La Porte Chamber of Commerce\, visit www.lpchamber.com</span></span></span></div>\n
LOCATION:Briar Leaf Golf Club 3233 IN-39 La Porte
UID:e.1949.4225
SEQUENCE:3
DTSTAMP:20260424T055008Z
URL:https://members.laportepartnership.com/events/details/briar-leaf-golf-club-business-after-hours-4225
END:VEVENT

END:VCALENDAR
