BEGIN:VCALENDAR
VERSION:2.0
PRODID:-//ChamberMaster//Event Calendar 2.0//EN
METHOD:PUBLISH
X-PUBLISHED-TTL:P3D
REFRESH-INTERVAL:P3D
CALSCALE:GREGORIAN
BEGIN:VEVENT
DTSTART:20180124T180000Z
DTEND:20180124T190000Z
X-MICROSOFT-CDO-ALLDAYEVENT:FALSE
SUMMARY:Brown Bag Lunch at La Porte County Historical Society Museum
DESCRIPTION:The La Porte County Historical Society Museum will be hosting its first Brown Bag Lunch on Wednesday\, January 24th from noon until 1 PM in the meeting room of the museum. Guests are invited to bring their own lunches and enjoy hearing artist Robert Smith as he presents his drawings of La Porte County railroad stations. Enjoy the presentation as you eat your lunch\, and then get back to work or other responsibility within an hour. Admission will not be charged for this event\; however\, those wishing to stay and tour the museum will be asked to pay admission at the front desk. \n\n    Come enjoy the Historical Society's first ever Brown Bag Lunch and bring your friends. More Brown Bag Lunches are in the works! Give us ideas for what programs you would like to see. \n\n    The museum is located at 2405 Indiana Ave. (Hwy 35) at the south entrance to La Porte. Regular hours are 10AM until 4:30 PM\, Tuesday through Saturday. Call: 219-324-6767 for more information or visit the website at: www.laportecountyhistory.org. The building is accessible to those with disabilities.
X-ALT-DESC;FMTTYPE=text/html:<span style="font-family:times new roman\,serif\;"><span style="font-size:14.0pt\;">&nbsp\; &nbsp\; The La Porte County Historical Society Museum will be hosting its first Brown Bag Lunch on Wednesday\, January 24<sup>th</sup> from noon until 1 PM in the meeting room of the museum. Guests are invited to bring their own lunches and enjoy hearing artist Robert Smith as he presents his drawings of La Porte County railroad stations. Enjoy the presentation as you eat your lunch\, and then get back to work or other responsibility within an hour. Admission will not be charged for this event\; however\, those wishing to stay and tour the museum will be asked to pay admission at the front desk. </span></span><br />\n<span style="font-family:times new roman\,serif\;"><span style="font-size:14.0pt\;">&nbsp\;&nbsp\;&nbsp\; Come enjoy the Historical Society&rsquo\;s first ever Brown Bag Lunch and bring your friends. More Brown Bag Lunches are in the works! Give us ideas for what programs you would like to see. </span></span><br />\n<span style="font-family:times new roman\,serif\;"><span style="font-size:14.0pt\;">&nbsp\;&nbsp\;&nbsp\; The museum is located at 2405 Indiana Ave. (Hwy 35) at the south entrance to La Porte. Regular hours are 10AM until 4:30 PM\, Tuesday through Saturday. Call: 219-324-6767 for more information or visit the website at: </span></span><a href="http://www.laportecountyhistory.org/"><span style="font-family:times new roman\,serif\;"><span style="font-size:14.0pt\;">www.laportecountyhistory.org</span></span></a><span style="font-family:times new roman\,serif\;"><span style="font-size:14.0pt\;">. The building is accessible to those with disabilities.&nbsp\;</span></span>
LOCATION:La Porte County Historical Society Museum 2405 Indiana Avenue La Porte
UID:e.1949.3022
SEQUENCE:3
DTSTAMP:20260424T174812Z
URL:https://members.laportepartnership.com/events/details/brown-bag-lunch-at-la-porte-county-historical-society-museum-3022
END:VEVENT

END:VCALENDAR
