BEGIN:VCALENDAR
VERSION:2.0
PRODID:-//ChamberMaster//Event Calendar 2.0//EN
METHOD:PUBLISH
X-PUBLISHED-TTL:P3D
REFRESH-INTERVAL:P3D
CALSCALE:GREGORIAN
BEGIN:VEVENT
DTSTART:20160720T220000Z
DTEND:20160721T010000Z
X-MICROSOFT-CDO-ALLDAYEVENT:FALSE
SUMMARY:BUFFALO WILD WINGS FUNDRAISER - JULY 20\, 2016
DESCRIPTION:On Wednesday\, July 20th\, Buffalo Wild Wings in Michigan City will host a Give Back event to benefit the La Porte County Family YMCA. The Y will receive a portion of all food and non-alcoholic beverage sales from 5:00 p.m. to 8:00 p.m. Carry out purchases are included towards the total.\n\nAt the Y\, we operate with the philosophy of charging fees to those who have the ability to pay\, and helping those who don't. All funds raised from this event will go toward our scholarship fund to help ensure that everyone in the community can afford to take advantage of important Y programs like youth and adult sports\, swim lessons\, childcare and preschool.\n\nNo voucher or flyer is required to participate in this event. Please contact Michelle Shirk at (219) 325-9622 or mshirk@lpymca.org with questions. We hope to see you on the 20th!
X-ALT-DESC;FMTTYPE=text/html:On Wednesday\, July 20th\, Buffalo Wild Wings in Michigan City will host a Give Back event to benefit the La Porte County Family YMCA. The Y will receive a portion of all food and non-alcoholic beverage sales from 5:00 p.m. to 8:00 p.m. Carry out purchases are included towards the total.<br />\nAt the Y\, we operate with the philosophy of charging fees to those who have the ability to pay\, and helping those who don&rsquo\;t. All funds raised from this event will go toward our scholarship fund to help ensure that everyone in the community can afford to take advantage of important Y programs like youth and adult sports\, swim lessons\, childcare and preschool.<br />\nNo voucher or flyer is required to participate in this event. Please contact Michelle Shirk at (219) 325-9622 or mshirk@lpymca.org with questions. We hope to see you on the 20th!
LOCATION:5000 S. Franklin St. Michigan City
UID:e.1949.2600
SEQUENCE:3
DTSTAMP:20260426T021655Z
URL:https://members.laportepartnership.com/events/details/buffalo-wild-wings-fundraiser-july-20-2016-07-20-2016-2600
END:VEVENT

END:VCALENDAR
