BEGIN:VCALENDAR
VERSION:2.0
PRODID:-//ChamberMaster//Event Calendar 2.0//EN
METHOD:PUBLISH
X-PUBLISHED-TTL:P3D
REFRESH-INTERVAL:P3D
CALSCALE:GREGORIAN
BEGIN:VEVENT
DTSTART:20190714T190000Z
DTEND:20190714T210000Z
X-MICROSOFT-CDO-ALLDAYEVENT:FALSE
SUMMARY:Bug Safari
DESCRIPTION:Interested in learning more about bugs? Join us for an afternoon of exploration of invertebrate life in various habitats of the Gardens! FREE admission!
X-ALT-DESC;FMTTYPE=text/html:<p><span style="background-color:transparent\; color:rgb(0\, 0\, 0)\; font-family:times new roman\; font-size:12pt">Interested in learning more about bugs? Join us for an afternoon of exploration of invertebrate life in various habitats of the Gardens! FREE admission!</span></p>\n
LOCATION:Friendship Botanic Gardens 2055 East US Highway 12 Michigan City\, IN 46360
UID:e.1949.4322
SEQUENCE:3
DTSTAMP:20260423T113626Z
URL:https://members.laportepartnership.com/events/details/bug-safari-4322
END:VEVENT

END:VCALENDAR
