BEGIN:VCALENDAR
VERSION:2.0
PRODID:-//ChamberMaster//Event Calendar 2.0//EN
METHOD:PUBLISH
X-PUBLISHED-TTL:P3D
REFRESH-INTERVAL:P3D
CALSCALE:GREGORIAN
BEGIN:VEVENT
DTSTART:20171102T130000Z
DTEND:20171102T150000Z
X-MICROSOFT-CDO-ALLDAYEVENT:FALSE
SUMMARY:Building a Federal Business: Using SBIR|STTR Funding to Drive R&D\, Sales\, and Valuation
DESCRIPTION:The Small Business Innovation Research (SBIR) and Small Business Tech Transfer (STTR) programs provide $2.8 Billion in awards for research and development. Join LaDue Curran Kuehn and industry experts C5BDI and Parmelee Consulting Group\, Inc. for the next event in our continuing series designed to help you navigate the intricacies of doing business with the Federal Government. Together with several prior SBIR|STTR awardees from our region\, they will discuss how your business can leverage federal funding to drive innovation and commercialization.
X-ALT-DESC;FMTTYPE=text/html:The Small Business Innovation Research (SBIR) and Small Business Tech Transfer (STTR) programs provide $2.8 Billion in awards for research and development. Join LaDue Curran Kuehn and industry experts C5BDI and Parmelee Consulting Group\, Inc. for the next event in our continuing series designed to help you navigate the intricacies of doing business with the Federal Government. Together with several prior SBIR|STTR awardees from our region\, they will discuss how your business can leverage federal funding to drive innovation and commercialization.
LOCATION:The IDEA Center at Innovation Park 1400 East Angela Boulevard South Bend\, IN\, 46617
UID:e.1949.2925
SEQUENCE:3
DTSTAMP:20260424T211635Z
URL:https://members.laportepartnership.com/events/details/building-a-federal-business-using-sbir-sttr-funding-to-drive-r-d-sales-and-valuation-2925
END:VEVENT

END:VCALENDAR
