BEGIN:VCALENDAR
VERSION:2.0
PRODID:-//ChamberMaster//Event Calendar 2.0//EN
METHOD:PUBLISH
X-PUBLISHED-TTL:P3D
REFRESH-INTERVAL:P3D
CALSCALE:GREGORIAN
BEGIN:VEVENT
DTSTART:20190924T160000Z
DTEND:20190924T180000Z
X-MICROSOFT-CDO-ALLDAYEVENT:FALSE
SUMMARY:Building From the Best - Lakeshore SHRM September Member Meeting
DESCRIPTION:"Building From The Best"\n\nBuilding a work culture where people want to work at your company is the ultimate goal. But getting there is not easy. It takes the hard work. It takes hearing honest feedback and working towards making sure you are providing what people want to be one the prestigious Indiana Best Places to Work. Join us for an intimate and practical conversation on how to get there. Our presentation will begin with Carrie Begley talking about the Best Place to Work Program and finish up with a panel of leaders that have built the best places to work. This is definitely one you do not want to miss! \n\nSpeakers:\n\nCarrie Begley\, Indiana State Chamber\n\nPanel: Craig Menne\, GIS\; Paul Vincent\, RQAW\; Chrisanne Christ\, Centier Bank\n\nAgenda:\n\n11:00 am - 11:15 am: Registration\n\n11:15 am - 11:30 am: SHRM Update/Membership Meeting/Lunch Served\n\n11:30 am - 12:00 pm: Best Places to Work Program - Indiana State Chamber\n\n12:00 pm -  1:00 pm:  Local Best Places to Work Panel\n\nLunch: \n\nPlease choose one of the following lunch options at registration:\n\n\n	Romaine & Apple Salad - romaine hearts\, sliced apples\, bleu cheese crumbles\, candied walnuts\, dried cranberries with apple cider vinaigrette\n	Chef Salad - three lettuce blend\, ham\, turkey\, American cheese\, provolone cheese\, hard boiled eggs with choice of dressing\n	Veggie Stir Fry - crisp veggies\, oriental glaze\, served over rice pilaf\n	Chicken Milanese - fresh chicken breast breaded and sauteed\, topped with lemon butter and served with home fries\n\n\nSponsor: \n\nThank you to our Sponsor JMJ Talent Solutions & Staffing! \n\nGuests should register seperately.\n\nNO SHOW Policy/Cancellations:  Lakeshore SHRM must pay for all reservations\;\n\ntherefore\, you will be billed for your reserved meal if cancellations are not made 48 hours in advance. \n\nRegistration Deadline: Thursday\, September 19th.
X-ALT-DESC;FMTTYPE=text/html:<h2 style="text-align:center"><big><strong>&quot\;Building From The Best&quot\;</strong></big></h2>\n\n<h4>Building a work culture where people&nbsp\;<em>want</em>&nbsp\;to work at your company is the ultimate goal. But getting there is not easy. It takes the hard work. It takes hearing honest feedback and working towards making sure you are providing what people want to be one the prestigious&nbsp\;<em>Indiana Best Places to Work</em>. Join us for an intimate and practical conversation on how to get there. Our presentation will begin with Carrie Begley talking about the Best Place to Work Program and finish up with a panel of leaders that have built the best places to work. This is definitely one you do not want to miss!&nbsp\;</h4>\n\n<h4><strong>Speakers:</strong></h4>\n\n<p><span style="font-size:12px">Carrie Begley\, Indiana State Chamber</span></p>\n\n<p><span style="font-size:12px">Panel: Craig Menne\, GIS\; Paul Vincent\, RQAW\;&nbsp\;Chrisanne Christ\, Centier Bank</span></p>\n\n<h3><strong>Agenda:</strong></h3>\n\n<h5 style="margin-left:40px"><span style="font-size:12px">11:00 am - 11:15 am: Registration</span></h5>\n\n<h5 style="margin-left:40px"><span style="font-size:12px">11:15 am - 11:30&nbsp\;am: SHRM Update/Membership Meeting/Lunch Served</span></h5>\n\n<h5 style="margin-left:40px"><span style="font-size:12px">11:30&nbsp\;am - 12:00&nbsp\;pm: Best Places to Work Program - Indiana State Chamber</span></h5>\n\n<h5 style="margin-left:40px"><span style="font-size:12px">12:00&nbsp\;pm -&nbsp\; 1:00&nbsp\;pm:&nbsp\; Local Best Places to Work Panel</span></h5>\n\n<h4><strong>Lunch:&nbsp\;</strong></h4>\n\n<p><span style="font-size:12px">Please choose one of the following lunch options at registration:</span></p>\n\n<ul>\n	<li><span style="font-size:12px"><strong>Romaine &amp\; Apple Salad</strong>&nbsp\;- romaine hearts\, sliced apples\, bleu cheese crumbles\, candied walnuts\, dried cranberries with apple cider vinaigrette</span></li>\n	<li><span style="font-size:12px"><strong>Chef Salad</strong>&nbsp\;- three lettuce blend\, ham\, turkey\, American cheese\, provolone cheese\, hard boiled eggs with choice of dressing</span></li>\n	<li><span style="font-size:12px"><strong>Veggie Stir Fry</strong>&nbsp\;- crisp veggies\, oriental glaze\, served over rice pilaf</span></li>\n	<li><span style="font-size:12px"><strong>Chicken Milanese</strong>&nbsp\;- fresh chicken breast breaded and sauteed\, topped with lemon butter and served with home fries</span></li>\n</ul>\n\n<h3><strong>Sponsor:&nbsp\;</strong></h3>\n\n<h5><span style="font-size:14px">Thank you to our Sponsor&nbsp\;<a href="http://www.jmjtalent.com">JMJ Talent Solutions &amp\; Staffing</a>!&nbsp\;</span></h5>\n\n<h5 style="text-align:center"><span style="font-size:14px"><strong>Guests should register seperately.</strong></span></h5>\n\n<p style="text-align:center"><strong><em>NO SHOW Policy/Cancellations:&nbsp\;&nbsp\;</em></strong><em>Lakeshore SHRM must pay for all reservations\;</em><br />\n<em>therefore\, you will be billed for your reserved meal if cancellations are not made 48 hours in advance.&nbsp\;</em><br />\n<strong><em>Registration Deadline: Thursday\, September 19th.</em></strong></p>\n\n<div>&nbsp\;</div>\n
LOCATION:Patrick's Grille 4125 Franklin Street Michigan City\, IN
UID:e.1949.4531
SEQUENCE:3
DTSTAMP:20260423T082538Z
URL:https://members.laportepartnership.com/events/details/building-from-the-best-lakeshore-shrm-september-member-meeting-4531
END:VEVENT

END:VCALENDAR
