BEGIN:VCALENDAR
VERSION:2.0
PRODID:-//ChamberMaster//Event Calendar 2.0//EN
METHOD:PUBLISH
X-PUBLISHED-TTL:P3D
REFRESH-INTERVAL:P3D
CALSCALE:GREGORIAN
BEGIN:VEVENT
DTSTART:20180609T130000Z
DTEND:20180609T203000Z
X-MICROSOFT-CDO-ALLDAYEVENT:FALSE
SUMMARY:Bus Tour of Shirley Heinze Land Trust
DESCRIPTION:Shirley Heinze Land Trust will host an educational bus tour of its nature preserves on Saturday\, June 9\, 2018\, from 8:00 a.m. to 3:30 p.m.  During the ride\, staff\, board members and guest speakers\, including IUN Geosciences Professor Dr. Erin Argyilan\, will provide insights on land conservation and the ecology\, geology\, and history of northwestern Indiana.\n\nTen of the organization's nature preserves are included on the tour through Lake\, Porter\, and LaPorte Counties. The bus will make brief stops at five preserves.\n\nThe bus will depart promptly at 8:00 a.m. from the Meadowbrook Conservation Center and Nature Preserve located at 109 W. 700 North\, Valparaiso\, IN.  It will head west to Ivanhoe South Nature Preserve in Gary for a short hike. This 50-acre property\, tucked between a residential neighborhood and an industrial area\, features globally rare dune and swale topography. The black oak savanna natural community here has recently been significantly restored.\n\nThe bus will then travel south to the Hobart Marsh conservation area. On the way\, passengers will pass by nature preserves located near I-65\, including Hidden Prairie/Ivory Wetlands on the west\, and Brinson/Bock Higgins prairies to the east. The bus will stop for a short hike at Bur Oak Woods\, which features a rare bur oak savanna natural community\, with trees that are several hundred years old.  Another brief hike is planned at nearby Cressmoor Prairie to see and hear about restoration work at this beautiful example of rare black-soil prairie.\n\nThe bus will then travel back to Meadowbrook Conservation Center and Nature Preserve for lunch in the lodge\, with food provided by Third Coast Spice Cafe.  \n\nThe afternoon portion of the tour will focus on preserves in Porter and LaPorte Counties.  Along the way\, participants will hear about the Little Calumet Conservation Corridor project and the restoration and public access improvements being performed at preserves along the river. The bus will drive past Wykes - Plampin Nature Preserve in Chesterton\, and stop for a brief hike at the 165-acre Dale B. Engquist Nature Preserve\, located along the Little Calumet River\, adjacent to Indiana Dunes National Lakeshore's Heron Rookery. From there the bus will head to Ambler Flatwoods in Michigan City for a brief stop.\n\nOn the final leg of the tour\, the bus will take a scenic drive through the Great Marsh in Beverly Shores and a make a brief stop at the Great Marsh Trail. Herons\, egrets\, and sandhill cranes can often be seen at this wetland restoration area. The tour will return to Meadowbrook at 3:30 p.m.\n\nThe cost for the tour is $40 per person\, which includes the lunch. Reservations are required and may be made by calling (219) 242-8558. The deadline for reservations is Monday\, June 4\, 2018. Payment must be made in advance. Seating is limited\, so early reservations are advised. The bus is restroom equipped.\n\nSince 1981\, Shirley Heinze Land Trust has protected\, restored and maintained northwestern Indiana's rich and significant natural communities\, including tallgrass prairie\, high dune\, oak savanna\, boreal flatwoods\, dune-and-swale\, woodlands\, marshes\, swamps\, ponds\, fens\, bogs\, and riparian habitat. More than 2\,400 acres in Lake\, Porter\, LaPorte\, and St. Joseph Counties have been preserved for the public's benefit. Shirley Heinze nature preserves feature significant scenic and ecological value\, and most are open to the public for hiking and enjoying nature. Five of its properties have been dedicated to the people of Indiana as state nature preserves. The organization also works to educate people of all ages to appreciate the importance of land conservation\, and to experience the natural wonders of this unique region. Its work is accomplished through a partnership of volunteers\, donors\, and professionals.\n\nFor more information on the work and nature preserves of Shirley Heinze Land Trust\, visit www.heinzetrust.org\, call (219) 242-8558\, or access its Facebook page at www.facebook.com/heinzetrust.
X-ALT-DESC;FMTTYPE=text/html:<div style="color: rgb(0\, 0\, 0)\; font-family: Calibri\, Helvetica\, sans-serif\; font-size: 16px\; margin: 0px\;"><font face="Calibri\,sans-serif" size="2"><span style="font-size: 11pt\;">Shirley Heinze Land Trust will host an educational bus tour of its nature preserves on Saturday\, June 9\, 2018\, from 8:00 a.m. to 3:30 p.m.&nbsp\; During the ride\, staff\, board members and guest speakers\, including IUN Geosciences Professor Dr. Erin Argyilan\,&nbsp\;will provide insights on land conservation and the ecology\, geology\, and history of northwestern Indiana.</span></font></div>\n\n<div style="color: rgb(0\, 0\, 0)\; font-family: Calibri\, Helvetica\, sans-serif\; font-size: 16px\; text-indent: 36pt\; margin: 0px\;"><font face="Calibri\,sans-serif" size="2"><span style="font-size: 11pt\;">Ten of the organization&rsquo\;s nature preserves are included on the tour through Lake\, Porter\, and LaPorte Counties. The bus will make brief stops at five preserves.</span></font></div>\n\n<div style="color: rgb(0\, 0\, 0)\; font-family: Calibri\, Helvetica\, sans-serif\; font-size: 16px\; text-indent: 36pt\; margin: 0px\;"><font face="Calibri\,sans-serif" size="2"><span style="font-size: 11pt\;">The bus will depart promptly at 8:00 a.m. from the Meadowbrook Conservation Center and Nature Preserve located at 109 W. 700 North\, Valparaiso\, IN.&nbsp\; It will head west to Ivanhoe South Nature Preserve in Gary for a short hike. This 50-acre property\, tucked between a residential neighborhood and an industrial area\, features globally rare dune and swale topography. The black oak savanna natural community here has recently been significantly restored.</span></font></div>\n\n<div style="color: rgb(0\, 0\, 0)\; font-family: Calibri\, Helvetica\, sans-serif\; font-size: 16px\; text-indent: 36pt\; margin: 0px\;"><font face="Calibri\,sans-serif" size="2"><span style="font-size: 11pt\;">The bus will then travel south to the Hobart Marsh conservation area. On the way\, passengers will pass by nature preserves located near I-65\, including Hidden Prairie/Ivory Wetlands on the west\, and Brinson/Bock Higgins prairies to the east. The bus will stop for a short hike at Bur Oak Woods\, which features a rare bur oak savanna natural community\, with trees that are several hundred years old.&nbsp\; Another brief hike is planned at nearby Cressmoor Prairie to see and hear about restoration work at this beautiful example of rare black-soil prairie.</span></font></div>\n\n<div style="color: rgb(0\, 0\, 0)\; font-family: Calibri\, Helvetica\, sans-serif\; font-size: 16px\; text-indent: 36pt\; margin: 0px\;"><font face="Calibri\,sans-serif" size="2"><span style="font-size: 11pt\;">The bus will then travel back to Meadowbrook Conservation Center and Nature Preserve for lunch in the lodge\, with food provided by Third Coast Spice Cafe.&nbsp\;&nbsp\;</span></font></div>\n\n<div style="color: rgb(0\, 0\, 0)\; font-family: Calibri\, Helvetica\, sans-serif\; font-size: 16px\; text-indent: 36pt\; margin: 0px\;"><font face="Calibri\,sans-serif" size="2"><span style="font-size: 11pt\;">The afternoon portion of the tour will focus on preserves in Porter and LaPorte Counties.&nbsp\; Along the way\, participants will hear about the Little Calumet Conservation Corridor project and the restoration and public access improvements being performed at preserves along the river. The bus will drive past Wykes - Plampin Nature Preserve in Chesterton\, and stop for a brief hike at the 165-acre Dale B. Engquist Nature Preserve\, located along the Little Calumet River\, adjacent to Indiana Dunes National Lakeshore&rsquo\;s Heron Rookery. From there the bus will head to Ambler Flatwoods in Michigan City for a brief stop.</span></font></div>\n\n<div style="color: rgb(0\, 0\, 0)\; font-family: Calibri\, Helvetica\, sans-serif\; font-size: 16px\; text-indent: 36pt\; margin: 0px\;"><font face="Calibri\,sans-serif" size="2"><span style="font-size: 11pt\;">On the final leg of the tour\, the bus will take a scenic drive through the Great Marsh in Beverly Shores and a make a brief stop at the Great Marsh Trail. Herons\, egrets\, and sandhill cranes can often be seen at this wetland restoration area. The tour will return to Meadowbrook at 3:30 p.m.</span></font></div>\n\n<div style="color: rgb(0\, 0\, 0)\; font-family: Calibri\, Helvetica\, sans-serif\; font-size: 16px\; text-indent: 36pt\; margin: 0px\;"><font face="Calibri\,sans-serif" size="2"><span style="font-size: 11pt\;">The cost for the tour is $40 per person\, which includes the lunch. Reservations are required and may be made by calling (219) 242-8558. The deadline for reservations is Monday\, June 4\, 2018. Payment must be made in advance. Seating is limited\, so early reservations are advised. The bus is restroom equipped.</span></font></div>\n\n<div style="color: rgb(0\, 0\, 0)\; font-family: Calibri\, Helvetica\, sans-serif\; font-size: 16px\; text-indent: 36pt\; margin: 0px\;"><font face="Calibri\,sans-serif" size="2"><span style="font-size: 11pt\;">Since 1981\, Shirley Heinze Land Trust has protected\, restored and maintained northwestern Indiana&rsquo\;s rich and significant natural communities\, including tallgrass prairie\, high dune\, oak savanna\, boreal flatwoods\, dune-and-swale\, woodlands\, marshes\, swamps\, ponds\, fens\, bogs\, and riparian habitat. More than 2\,400 acres in Lake\, Porter\, LaPorte\, and St. Joseph Counties have been preserved for the public&rsquo\;s benefit. Shirley Heinze nature preserves feature significant scenic and ecological value\, and most are open to the public for hiking and enjoying nature. Five of its properties have been dedicated to the people of Indiana as state nature preserves. The organization also works to educate people of all ages to appreciate the importance of land conservation\, and to experience the natural wonders of this unique region. Its work is accomplished through a partnership of volunteers\, donors\, and professionals.</span></font></div>\n\n<div style="color: rgb(0\, 0\, 0)\; font-family: Calibri\, Helvetica\, sans-serif\; font-size: 16px\; text-indent: 36pt\; margin: 0px\;"><font face="Calibri\,sans-serif" size="2"><span style="font-size: 11pt\;"><font color="#2A2A2A">For more information on the work and nature preserves of Shirley Heinze Land Trust\,&nbsp\;</font>visit www.heinzetrust.org\, call (219) 242-8558\, or access its Facebook page at www.facebook.com/heinzetrust.</span></font></div>\n
LOCATION:Starts at the Meadowbrook Conservation Center and Nature Preserve 109 W. 700 North Valparaiso
UID:e.1949.4165
SEQUENCE:3
DTSTAMP:20260424T090601Z
URL:https://members.laportepartnership.com/events/details/bus-tour-of-shirley-heinze-land-trust-4165
END:VEVENT

END:VCALENDAR
