BEGIN:VCALENDAR
VERSION:2.0
PRODID:-//ChamberMaster//Event Calendar 2.0//EN
METHOD:PUBLISH
X-PUBLISHED-TTL:P3D
REFRESH-INTERVAL:P3D
CALSCALE:GREGORIAN
BEGIN:VEVENT
DTSTART:20180228T150000Z
DTEND:20180301T050000Z
X-MICROSOFT-CDO-ALLDAYEVENT:FALSE
SUMMARY:Business Planning Boot Camp: 6 Easy Steps- NWI SCORE
DESCRIPTION:This Northwest Indiana SCORE workshop is designed for prospective business owners and current business owners looking to revamp their business plans.  This one-hour information-packed workshop will focus on the SIX steps to get your business plan started to increase the odds of success. \n\nSCORE mentor Jim Hubbard will drill down to the essentials of business planning for maximum benefits.\n\nThis workshop will be held on February 28th at 9:00 am at the Valparaiso Chamber of Commerce.  There is no charge for this workshop and attendees will receive a copy of the slide presentation. Coffee will be served. Limited seating is available and registrations are required.  To register\, go to www.northwestindiana.score.org and click Take a Workshop in the Local Workshops section.\n\nThere will be an optional and informal networking session starting at 10:00 am after the presentation concludes.  Here you can ask questions specific to your business and brainstorm ideas with other attendees.\n\nSCORE Mentor Jim Hubbard is an HR professional and an attorney with over 45 years in the business world who has helped businesses of all sizes with their business planning process.
X-ALT-DESC;FMTTYPE=text/html:<span style="color:#003A4A\;"><span style="font-family:arial\,sans-serif\;"><span style="font-size:9.0pt\;">This Northwest Indiana SCORE workshop is designed for&nbsp\;prospective&nbsp\;business owners and current business owners looking to revamp their business plans.&nbsp\;&nbsp\;This one-hour information-packed workshop will focus on the SIX steps to get your business plan started to increase the odds of success.&nbsp\;</span></span></span><br />\n<span style="color:#003A4A\;"><span style="font-family:arial\,sans-serif\;"><span style="font-size:9.0pt\;">SCORE mentor Jim Hubbard will drill down to the essentials of business planning for maximum benefits.</span></span></span><br />\n<span style="color:#003A4A\;"><span style="font-family:arial\,sans-serif\;"><span style="font-size:9.0pt\;">This workshop will be held on February 28th at 9:00 am at the Valparaiso Chamber of Commerce. &nbsp\;There is no charge for this workshop and attendees will receive a copy of the slide presentation. Coffee will be served.&nbsp\;Limited seating is available and registrations are required.</span></span></span>&nbsp\;&nbsp\;<span style="color:#003A4A\;"><span style="font-family:arial\,sans-serif\;"><span style="font-size:9.0pt\;">To register\, go to </span></span></span><a href="http://www.northwestindiana.score.org/"><span style="font-family:arial\,sans-serif\;"><span style="font-size:9.0pt\;">www.northwestindiana.score.org</span></span></a><span style="color:#003A4A\;"><span style="font-family:arial\,sans-serif\;"><span style="font-size:9.0pt\;"> and click Take a Workshop in the Local Workshops section.</span></span></span><br />\n<span style="color:#003A4A\;"><span style="font-family:arial\,sans-serif\;"><span style="font-size:9.0pt\;">There will be an optional and informal networking session starting at 10:00 am after the presentation concludes.&nbsp\;&nbsp\;Here you can ask questions specific to your business and brainstorm ideas with other attendees.</span></span></span><br />\n<span style="color:#003A4A\;"><span style="font-family:arial\,sans-serif\;"><span style="font-size:9.0pt\;">SCORE Mentor Jim Hubbard&nbsp\;is an HR professional and an attorney with over 45 years in the business world who has helped businesses of all sizes with their business planning process.</span></span></span>
LOCATION:Valparaiso Chamber of Commerce 162 Lincolnway Valparaiso
UID:e.1949.3055
SEQUENCE:3
DTSTAMP:20260424T154904Z
URL:https://members.laportepartnership.com/events/details/business-planning-boot-camp-6-easy-steps-nwi-score-3055
END:VEVENT

END:VCALENDAR
