BEGIN:VCALENDAR
VERSION:2.0
PRODID:-//ChamberMaster//Event Calendar 2.0//EN
METHOD:PUBLISH
X-PUBLISHED-TTL:P3D
REFRESH-INTERVAL:P3D
CALSCALE:GREGORIAN
BEGIN:VEVENT
DTSTART:20180315T230000Z
DTEND:20180316T010000Z
X-MICROSOFT-CDO-ALLDAYEVENT:FALSE
SUMMARY:Business Start-up 101
DESCRIPTION:Centier Bank is partnering with the Northwest Indiana SBDC to offer this No Cost Workshop\, a first step toward owning a successful small business and it aims to help entrepreneurs evaluate their business ideas\, prepare a sound business plan\, manage expectations and increase chances of accessing capital. A lender from Centier Bank will be present and discuss how bankers work with new businesses.\n\nWorkshop topics include: indentifying personal objectives\, skills and resources\; Evaluating your business ideas and market opportunity\; developing a sales forecast\; identifying start-up expenses\; estimating your operating budget\; and analyzing your feasibility results.\n\nServing seven counties in the region the NW-ISBDC offers no-cost assistance for entreprenrus starting or expanding their businesses. Through one-on-one consulting\, the NWISBDC helps guide small businesses toward their goals by offering referrals\, workshops\, training opportunities and other essential business tools. It is funded in part through a cooperative agreement with the Small Business Administration\, the State of Indiana an other local partners.
X-ALT-DESC;FMTTYPE=text/html:<p style="margin: 0px\; padding: 0px\; color: rgb(102\, 106\, 115)\; font-family: &quot\;Benton Sans&quot\;\, &quot\;Helvetica Neue&quot\;\, Helvetica\, Roboto\, Arial\, sans-serif\; font-size: 15px\; letter-spacing: 0.5px\;">Centier Bank is partnering with the Northwest Indiana SBDC to offer this No Cost Workshop\, a first step toward owning a successful small business and it aims to help entrepreneurs evaluate their business ideas\, prepare a sound business plan\, manage expectations and increase chances of accessing capital. A lender from Centier Bank will be present and discuss how bankers work with new businesses.</p>\n\n<p style="margin: 0px\; padding: 10px 0px 0px\; color: rgb(102\, 106\, 115)\; font-family: &quot\;Benton Sans&quot\;\, &quot\;Helvetica Neue&quot\;\, Helvetica\, Roboto\, Arial\, sans-serif\; font-size: 15px\; letter-spacing: 0.5px\;">Workshop topics include: indentifying personal objectives\, skills and resources\; Evaluating your business ideas and market opportunity\; developing a sales forecast\; identifying start-up expenses\; estimating your operating budget\; and analyzing your feasibility results.</p>\n\n<p style="margin: 0px\; padding: 10px 0px 0px\; color: rgb(102\, 106\, 115)\; font-family: &quot\;Benton Sans&quot\;\, &quot\;Helvetica Neue&quot\;\, Helvetica\, Roboto\, Arial\, sans-serif\; font-size: 15px\; letter-spacing: 0.5px\;">Serving seven counties in the region the NW-ISBDC offers no-cost assistance for entreprenrus starting or expanding their businesses. Through one-on-one consulting\, the NWISBDC helps guide small businesses toward their goals by offering referrals\, workshops\, training opportunities and other essential business tools. It is funded in part through a cooperative agreement with the Small Business Administration\, the State of Indiana an other local partners.</p>\n
LOCATION:Regional Development Company 1757 Thornapple Circle Valparaiso
UID:e.1949.3070
SEQUENCE:3
DTSTAMP:20260424T133936Z
URL:https://members.laportepartnership.com/events/details/business-start-up-101-3070
END:VEVENT

END:VCALENDAR
