BEGIN:VCALENDAR
VERSION:2.0
PRODID:-//ChamberMaster//Event Calendar 2.0//EN
METHOD:PUBLISH
X-PUBLISHED-TTL:P3D
REFRESH-INTERVAL:P3D
CALSCALE:GREGORIAN
BEGIN:VEVENT
DTSTART:20180201T000000Z
DTEND:20180201T020000Z
X-MICROSOFT-CDO-ALLDAYEVENT:FALSE
SUMMARY:Business Start-Up 101- Bilingual Format
DESCRIPTION:The NW-ISBDC is partnering with the Hammond Development Corp. as well as the Southlake Hispanic Chamber of Commerce to offer its Business Start-up 101 workshop in a bilingual format. A Spanish interpreter will be on hand and the workbooks will be available in both English and Spanish. \n\nThe event will be from 6 to 8 p.m. Wednesday Jan. 31 at the Hammond Development Corp.\, 5205 Hohman Ave. in Hammond. There is no cost\, but registration is required - as there is limited seating - via the link: https://goo.gl/HH42Rr.\n\nThe workshop will still focus on the best strategies to take as a new entrepreneur including business plan essentials\, managing expectations\, evaluating business ideas and increasing chances of accessing capital. An introduction to the state's InBiz Web site and Procurement Technical Assistance Center (PTAC) resources will also be covered.\n\nFor more information\, contact the Northwest ISBDC via phone at (219) 644-3513 or via email at northwest@isbdc.og.
X-ALT-DESC;FMTTYPE=text/html:The NW-ISBDC is partnering with the Hammond Development Corp. as well as the Southlake Hispanic Chamber of Commerce to offer its Business Start-up 101 workshop in a bilingual format. A Spanish interpreter will be on hand and the workbooks will be available in both English and Spanish.&nbsp\;<br />\nThe event will be from 6 to 8 p.m. Wednesday Jan. 31 at the Hammond Development Corp.\, 5205 Hohman Ave. in Hammond. There is no cost\, but registration is required - as there is limited seating - via the link:&nbsp\;<span style="color:#444444\;"><span style="font-family:helvetica\,sans-serif\;"><span style="font-size:10.0pt\;"><a href="https://goo.gl/HH42Rr">https://goo.gl/HH42Rr</a>.</span></span></span><br />\nThe workshop will still focus on the best strategies to take as a new entrepreneur including business plan essentials\, managing expectations\, evaluating business ideas and increasing chances of accessing capital. An introduction to the state&#39\;s InBiz Web site and Procurement Technical Assistance Center (PTAC) resources will also be covered.<br />\nFor more information\, contact the Northwest ISBDC via phone at (219) 644-3513 or via email at <a href="mailto:northwest@isbdc.og">northwest@isbdc.og</a>.
LOCATION:Hammond Development Corporation 5205 Hohman Avenue Hammond
UID:e.1949.3023
SEQUENCE:3
DTSTAMP:20260424T192035Z
URL:https://members.laportepartnership.com/events/details/business-start-up-101-bilingual-format-3023
END:VEVENT

END:VCALENDAR
