BEGIN:VCALENDAR
VERSION:2.0
PRODID:-//ChamberMaster//Event Calendar 2.0//EN
METHOD:PUBLISH
X-PUBLISHED-TTL:P3D
REFRESH-INTERVAL:P3D
CALSCALE:GREGORIAN
BEGIN:VEVENT
DTSTART:20180517T230000Z
DTEND:20180518T010000Z
X-MICROSOFT-CDO-ALLDAYEVENT:FALSE
SUMMARY:Business Start-up 101- ISBDC
DESCRIPTION:Horizon Bank is partnering with the NW ISBDC to offer this NO Cost workshop\, a first step toward owning a successful small business and it aims to help them evaluate their business ideas\, prepare a sound buisness plan\, manage expectations and increase chances of accessing capital.\n\nA lender from Horizon Bank will be present and discuss how bankers work with new businesses.\n\nWorkshop topics iclude: indentifying personal objectives\, skills and resources\; describing your business ideas and requirements\; developing a sales forecast\; identifying start-up expenses\; estimating your operating budget\; and analyzing your feasibility results.\n\nServing seven counties in the region the NW-ISBDC offers no-cost assistance for entreprenrus starting or expanding their businesses. Through one-on-one consulting\, the NWISBDC helps guide small businesses toward their goals by offering referrals\, workshops\, training opportunities and other essential business tools. It is funded in part through a cooperative agreement with the Small Business Administration\, the State of Indiana an other local partners.
X-ALT-DESC;FMTTYPE=text/html:<div class="js-xd-read-more-toggle-view read-more__toggle-view">\n<div class="js-xd-read-more-contents l-mar-top-3" data-automation="listing-event-description">\n<p>Horizon Bank is partnering with the NW ISBDC to offer this NO Cost workshop\, a first step toward owning a successful small business and it aims to help them evaluate their business ideas\, prepare a sound buisness plan\, manage expectations and increase chances of accessing capital.</p>\n\n<p>A lender from Horizon Bank will be present and discuss how bankers work with new businesses.</p>\n\n<p>Workshop topics iclude: indentifying personal objectives\, skills and resources\; describing your business ideas and requirements\; developing a sales forecast\; identifying start-up expenses\; estimating your operating budget\; and analyzing your feasibility results.</p>\n\n<p>Serving seven counties in the region the NW-ISBDC offers no-cost assistance for entreprenrus starting or expanding their businesses. Through one-on-one consulting\, the NWISBDC helps guide small businesses toward their goals by offering referrals\, workshops\, training opportunities and other essential business tools. It is funded in part through a cooperative agreement with the Small Business Administration\, the State of Indiana an other local partners.</p>\n</div>\n</div>\n
LOCATION:May 17 6:00 p.m.-8:00 p.m.
UID:e.1949.4147
SEQUENCE:3
DTSTAMP:20260424T103234Z
URL:https://members.laportepartnership.com/events/details/business-start-up-101-isbdc-4147
END:VEVENT

END:VCALENDAR
