BEGIN:VCALENDAR
VERSION:2.0
PRODID:-//ChamberMaster//Event Calendar 2.0//EN
METHOD:PUBLISH
X-PUBLISHED-TTL:P3D
REFRESH-INTERVAL:P3D
CALSCALE:GREGORIAN
BEGIN:VEVENT
DTSTART:20171116T233000Z
DTEND:20171117T013000Z
X-MICROSOFT-CDO-ALLDAYEVENT:FALSE
SUMMARY:Business Start-Up 101 with ISBDC
DESCRIPTION:The workshop is a first step toward owning a successful small busines s and it aims to help entrepreneurs evaluate their business ideas\, prepare a sound b usiness plan\, manage expectations and increase chances of accessing capital.   \n\nThe workshop is based on the ISBDC's A Sound and Proven Path Towards Launching Your Own Business Workbook\, available at all ISBDC offices. A free copy of this 60 page step-by-step workbook will be distributed to participants and used during the class. \n\n \n\n\nTopics include:  \n\n\n	 Identifying personal objectives\, skills and resources.\n	 Describing your business idea and requirements.\n	 Developing a sales forecast.\n	 Identifying start-up expenses.\n	 Estimating your operating budget.\n	 Analyzing your feasibility results.\n\n \n\n \n\nWhen: 5:30 to 7:30 p.m. Thursday Nov. 16 \n\nWhere: greenCOW Coworking\, 5209 Hohman Avenue\, Hammond\, IN 46320 \n\n \n\nThere is no cost for this workshop as First Midwest Bank is partnering with us to offer it at no cost.  \n\n \n\n\nRegistration is still required: \n\nRegister Online
X-ALT-DESC;FMTTYPE=text/html:<div style="color:#000000\;font-size:12pt\;">\n<div><span style="color:#005696\;font-size:16pt\;font-family:Tahoma\, Arial\, Helvetica\, sans-serif\;">The workshop is a first step toward owning a successful small busines <span style="font-size:12pt\;">s and it aims to help entrepreneurs evaluate their business ideas\, prepare a sound b</span> <span style="font-size:12pt\;">usiness plan\, manage expectations and increase chances of accessing capital.</span> <span style="font-size:12pt\;">&nbsp\;</span> </span></div>\n\n<div><span style="color:#005696\;font-size:16pt\;font-family:Tahoma\, Arial\, Helvetica\, sans-serif\;">The workshop is based on the ISBDC&#39\;s A Sound and Proven Path Towards Launching Your Own Business Workbook\, available at all ISBDC offices. A free copy of this 60 page step-by-step workbook will be distributed to participants and used during the class. </span></div>\n\n<div>&nbsp\;</div>\n</div>\n\n<div style="color:#000000\;font-size:12pt\;"><span style="color:#005696\;font-size:16pt\;font-family:Tahoma\, Arial\, Helvetica\, sans-serif\;">Topics include:&nbsp\; </span>\n\n<ul>\n	<li><span style="color:#005696\;font-size:16pt\;font-family:Tahoma\, Arial\, Helvetica\, sans-serif\;">&nbsp\;Identifying personal objectives\, skills and resources.</span></li>\n	<li><span style="color:#005696\;font-size:16pt\;font-family:Tahoma\, Arial\, Helvetica\, sans-serif\;">&nbsp\;Describing your business idea and requirements.</span></li>\n	<li><span style="color:#005696\;font-size:16pt\;font-family:Tahoma\, Arial\, Helvetica\, sans-serif\;">&nbsp\;Developing a sales forecast.</span></li>\n	<li><span style="color:#005696\;font-size:16pt\;font-family:Tahoma\, Arial\, Helvetica\, sans-serif\;">&nbsp\;Identifying start-up expenses.</span></li>\n	<li><span style="color:#005696\;font-size:16pt\;font-family:Tahoma\, Arial\, Helvetica\, sans-serif\;">&nbsp\;Estimating your operating budget.</span></li>\n	<li><span style="color:#005696\;font-size:16pt\;font-family:Tahoma\, Arial\, Helvetica\, sans-serif\;">&nbsp\;Analyzing your feasibility results.</span></li>\n</ul>\n<span style="color:#005696\;font-size:16pt\;font-family:Tahoma\, Arial\, Helvetica\, sans-serif\;"> </span></div>\n\n<div style="color:#000000\;font-size:12pt\;">&nbsp\;</div>\n\n<div style="color:#000000\;font-size:12pt\;"><span style="color:#005696\;font-size:16pt\;font-family:Tahoma\, Arial\, Helvetica\, sans-serif\;"><b>When: </b>5:30 to 7:30 p.m. Thursday Nov. 16 </span></div>\n\n<div style="color:#000000\;font-size:12pt\;"><span style="color:#005696\;font-size:16pt\;font-family:Tahoma\, Arial\, Helvetica\, sans-serif\;"><strong>Where</strong>: greenCOW Coworking\, 5209 Hohman Avenue\, Hammond\, IN 46320 </span></div>\n\n<div style="color:#000000\;font-size:12pt\;">&nbsp\;</div>\n\n<div style="color:#000000\;font-size:12pt\;"><span style="color:#005696\;font-size:16pt\;font-family:Tahoma\, Arial\, Helvetica\, sans-serif\;"><strong>There is no cost for this workshop as First Midwest Bank is partnering with us to offer it at no cost.&nbsp\;</strong> </span></div>\n\n<div style="color:#000000\;font-size:12pt\;">&nbsp\;</div>\n\n<div style="color:#000000\;font-size:12pt\;">\n<div align="center" style="text-align:center\;"><span style="color:#005696\;font-size:16pt\;font-family:Tahoma\, Arial\, Helvetica\, sans-serif\;"><strong>Registration is still required: </strong></span></div>\n\n<div align="center" style="text-align:center\;"><span style="color:#005696\;font-size:16pt\;font-family:Tahoma\, Arial\, Helvetica\, sans-serif\;"><strong><a href="https://www.eventbrite.com/e/business-start-up-101-at-greencow-in-hammond-tickets-38015262674?ref=ecal" linktype="1" rel="nofollow" shape="rect" style="color: rgb(0\, 0\, 0)\;" target="_blank" track="on">Register Online</a> </strong></span></div>\n</div>\n\n<div style="color:#000000\;font-size:12pt\;">&nbsp\;</div>\n
LOCATION:greenCOW Coworking 5209 Hohman Avenue Hammond
UID:e.1949.2946
SEQUENCE:3
DTSTAMP:20260424T211149Z
URL:https://members.laportepartnership.com/events/details/business-start-up-101-with-isbdc-2946
END:VEVENT

END:VCALENDAR
