BEGIN:VCALENDAR
VERSION:2.0
PRODID:-//ChamberMaster//Event Calendar 2.0//EN
METHOD:PUBLISH
X-PUBLISHED-TTL:P3D
REFRESH-INTERVAL:P3D
CALSCALE:GREGORIAN
BEGIN:VEVENT
DTSTART:20190728T190000Z
DTEND:20190728T210000Z
X-MICROSOFT-CDO-ALLDAYEVENT:FALSE
SUMMARY:Butterfly Bonanza
DESCRIPTION:See these wonderful creatures in all stages and watch Monarch butterflies released! Make your own butterfly feeder! FREE admission!
X-ALT-DESC;FMTTYPE=text/html:<p><span style="background-color:transparent\; color:rgb(0\, 0\, 0)\; font-family:times new roman\; font-size:12pt">See these wonderful creatures in all stages and watch Monarch butterflies released! Make your own butterfly feeder! FREE admission!</span></p>\n
LOCATION:Friendship Botanic Gardens 2055 East US Highway 12 Michigan City\, IN 46360
UID:e.1949.4324
SEQUENCE:3
DTSTAMP:20260423T114415Z
URL:https://members.laportepartnership.com/events/details/butterfly-bonanza-4324
END:VEVENT

END:VCALENDAR
