BEGIN:VCALENDAR
VERSION:2.0
PRODID:-//ChamberMaster//Event Calendar 2.0//EN
METHOD:PUBLISH
X-PUBLISHED-TTL:P3D
REFRESH-INTERVAL:P3D
CALSCALE:GREGORIAN
BEGIN:VEVENT
DTSTART:20160713T220000Z
DTEND:20160714T010000Z
X-MICROSOFT-CDO-ALLDAYEVENT:FALSE
SUMMARY:BWW Give Back Night - Relay For Life
DESCRIPTION:Buffalo Wild Wings will donate a % of all sales during the hours of 5pm through 8pm on Wed\, July 13th to The American Cancer Society Relay For Life of LaPorte County.
X-ALT-DESC;FMTTYPE=text/html:Buffalo Wild Wings will donate a % of all sales during the hours of 5pm through 8pm on Wed\, July 13th to The American Cancer Society Relay For Life of LaPorte County.
LOCATION:5000 South Franklin\, Michigan City\, IN 46360
UID:e.1949.2594
SEQUENCE:3
DTSTAMP:20260426T021553Z
URL:https://members.laportepartnership.com/events/details/bww-give-back-night-relay-for-life-07-13-2016-2594
END:VEVENT

END:VCALENDAR
