BEGIN:VCALENDAR
VERSION:2.0
PRODID:-//ChamberMaster//Event Calendar 2.0//EN
METHOD:PUBLISH
X-PUBLISHED-TTL:P3D
REFRESH-INTERVAL:P3D
CALSCALE:GREGORIAN
BEGIN:VEVENT
DTSTART:20180519T153000Z
DTEND:20180519T193000Z
X-MICROSOFT-CDO-ALLDAYEVENT:FALSE
SUMMARY:Cancer You Messed with the Wrong Family Hot Dogs for a Cure
DESCRIPTION:Hot Dogs For A Cure! Join Us Saturday May 19th\, at Kabelin Ace Hardware 512 Andrew Ave. LaPorte In. Hot Dogs\, Chips\, Drinks and Bake Sale All Donations go to LaPorte County Relay For Life Team Cancer You Messed With The Wrong Family
X-ALT-DESC;FMTTYPE=text/html:Hot Dogs For A Cure! Join Us Saturday May 19th\, at Kabelin Ace Hardware 512 Andrew Ave. LaPorte In. Hot Dogs\, Chips\, Drinks and Bake Sale All Donations go to LaPorte County Relay For Life Team Cancer You Messed With The Wrong Family
LOCATION:Kabelin Ace Hardware 512 Andrew Ave. LaPorte In.
UID:e.1949.4153
SEQUENCE:3
DTSTAMP:20260424T120107Z
URL:https://members.laportepartnership.com/events/details/cancer-you-messed-with-the-wrong-family-hot-dogs-for-a-cure-4153
END:VEVENT

END:VCALENDAR
