BEGIN:VCALENDAR
VERSION:2.0
PRODID:-//ChamberMaster//Event Calendar 2.0//EN
METHOD:PUBLISH
X-PUBLISHED-TTL:P3D
REFRESH-INTERVAL:P3D
CALSCALE:GREGORIAN
BEGIN:VEVENT
DTSTART:20180616T180000Z
DTEND:20180616T190000Z
X-MICROSOFT-CDO-ALLDAYEVENT:FALSE
SUMMARY:Canvas for a Cure
DESCRIPTION:American Cancer Society Fundraiser during Relay for Life event. Canvas for a Cure hosted by 7th Crow. Cost is $25.00 per person
X-ALT-DESC;FMTTYPE=text/html:American Cancer Society Fundraiser during Relay for Life event. Canvas for a Cure hosted by 7th Crow. Cost is $25.00 per person
LOCATION:LaPorte County Fairgrounds
UID:e.1949.4168
SEQUENCE:3
DTSTAMP:20260424T102251Z
URL:https://members.laportepartnership.com/events/details/canvas-for-a-cure-06-16-2018-4168
END:VEVENT

END:VCALENDAR
