BEGIN:VCALENDAR
VERSION:2.0
PRODID:-//ChamberMaster//Event Calendar 2.0//EN
METHOD:PUBLISH
X-PUBLISHED-TTL:P3D
REFRESH-INTERVAL:P3D
CALSCALE:GREGORIAN
BEGIN:VEVENT
DTSTART:20180521T170000Z
DTEND:20180521T190000Z
X-MICROSOFT-CDO-ALLDAYEVENT:FALSE
SUMMARY:Caring and Curious An Open House for Exploring Volunteer Opportunities in La Porte
DESCRIPTION:Have you ever wondered what a hospice volunteer does? Come find out.\n\n \n\nCenter for Hospice Care is hosting an event on Monday\, May 21\, 2018 from 12:00-2:00pm CT at the Center for Hospice Care La Porte Office (286 West Johnson Road\, Suite B\, La Porte). This open house is perfect for those curious about volunteering. \n\n \n\nVisit our newly opened La Porte office and visit with members of our volunteer team. Learn about all the different opportunities and watch a testimonial video of our volunteers sharing why they chose to volunteer with Center for Hospice Care. Feel free to pop in for a few minutes or stay and chat awhile. \n\n \n\nBring a friend. We need compassionate people in our community to join our team. Contact Kristiana Donahue\, Volunteer Recruitment Coordinater\, at  574-286-1198 or Donahuek@cfhcare.org.
X-ALT-DESC;FMTTYPE=text/html:<span style="font-family:arial\,sans-serif\;">Have you ever wondered what a hospice volunteer does? Come find out.</span><br />\n&nbsp\;<br />\n<span style="font-family:arial\,sans-serif\;">Center for Hospice Care is hosting an event on Monday\, May 21\, 2018 from 12:00-2:00pm CT at the Center for Hospice Care La Porte Office (286 West Johnson Road\, Suite B\, La Porte). This open house is perfect for those curious about volunteering. </span><br />\n&nbsp\;<br />\n<span style="font-family:arial\,sans-serif\;">Visit our newly opened La Porte office and visit with members of our volunteer team. Learn about all the different opportunities and watch a testimonial video of our volunteers sharing why they chose to volunteer with Center for Hospice Care. Feel free to pop in for a few minutes or stay and chat awhile. </span><br />\n&nbsp\;<br />\n<span style="font-family:arial\,sans-serif\;">Bring a friend. We need compassionate people in our community to join our team. Contact Kristiana Donahue\, Volunteer Recruitment Coordinater\, at&nbsp\; 574-286-1198 or Donahuek@cfhcare.org.</span>
LOCATION:Center for Hospice Care La Porte 286 W. Johnson Road\, Suite B
UID:e.1949.4148
SEQUENCE:3
DTSTAMP:20260424T115805Z
URL:https://members.laportepartnership.com/events/details/caring-and-curious-an-open-house-for-exploring-volunteer-opportunities-in-la-porte-4148
END:VEVENT

END:VCALENDAR
