BEGIN:VCALENDAR
VERSION:2.0
PRODID:-//ChamberMaster//Event Calendar 2.0//EN
METHOD:PUBLISH
X-PUBLISHED-TTL:P3D
REFRESH-INTERVAL:P3D
CALSCALE:GREGORIAN
BEGIN:VEVENT
DTSTART:20181006T120000Z
DTEND:20181006T170000Z
X-MICROSOFT-CDO-ALLDAYEVENT:FALSE
SUMMARY:CASA Superhero Race
DESCRIPTION:DON YOUR CAPES TO SAVE THE DAY FOR ABUSED AND NEGLECTED CHILDREN IN LAPORTE COUNTY! Family Advocates invites you to join us for our 6th annual Superhero Fun Fest and 5K/10 run/walk & 10K Bike Race. Come spend the day with us and enjoy the fun while supporting a wonderful cause. Family Advocates is a non-profit organization dedicated to advocating for children who have been abused or neglected. WE WOULD LOVE TO SEE YOU AT THE EVENT!
X-ALT-DESC;FMTTYPE=text/html:DON YOUR CAPES TO SAVE THE DAY FOR ABUSED AND NEGLECTED CHILDREN IN LAPORTE COUNTY! Family Advocates invites you to join us for our 6th annual Superhero Fun Fest and 5K/10 run/walk &amp\; 10K Bike Race. Come spend the day with us and enjoy the fun while supporting a wonderful cause. Family Advocates is a non-profit organization dedicated to advocating for children who have been abused or neglected. WE WOULD LOVE TO SEE YOU AT THE EVENT!
LOCATION:Cumming Lodge 350 Grangemouth Rd. La Porte\, IN 46350
UID:e.1949.4238
SEQUENCE:3
DTSTAMP:20260424T040041Z
URL:https://members.laportepartnership.com/events/details/casa-superhero-race-4238
END:VEVENT

END:VCALENDAR
