BEGIN:VCALENDAR
VERSION:2.0
PRODID:-//ChamberMaster//Event Calendar 2.0//EN
METHOD:PUBLISH
X-PUBLISHED-TTL:P3D
REFRESH-INTERVAL:P3D
CALSCALE:GREGORIAN
BEGIN:VEVENT
DTSTART:20180127T200000Z
DTEND:20180127T223000Z
X-MICROSOFT-CDO-ALLDAYEVENT:FALSE
SUMMARY:CAYA Bowl-a-thon: Peace\, Love\, Bowl
DESCRIPTION:Family Advocates invites you to participate in our CAYA Bowl-a-thon. Each bowler will raise donations to help support the CAYA (Court Appointed Special Advocate) program. - The individual that raises the most in donations will win a prize. -The team that raises the most in donations goes home with the CAYA Bowl-a-thon Traveling Trophy and bragging rights. Each bowler will raise or pay a minimum donation of $25 (if registered in advance) or $30 (at the door) to participate in the bowl-a-thon. The money pays for three games of bowling\, shoes and a ticket to be part of the raffle. Come have a blast bowling and helping a wonderful program make a difference in the lives of local youth! The Court Appointed Youth Advocate (CAYA) Program seeks to reach every youth who is adjudicated delinquent in order to reduce the probability of reoffending by working directly with them. Our mission is to support the best interest of those youth who are involved in the juvenile justice system due to delinquent acts by promoting intervention services and providing a positive mentor. The Juvenile Magistrate appoints a youth advocate to assist in concerns of adolescents who have been adjudicated delinquent. The advocate acts as an additional support to all involved with the youth at this time and promotes better choices and personal growth.
X-ALT-DESC;FMTTYPE=text/html:Family Advocates invites you to participate in our CAYA Bowl-a-thon. Each bowler will raise donations to help support the CAYA (Court Appointed Special Advocate) program. - The individual that raises the most in donations will win a prize. -The team that raises the most in donations goes home with the CAYA Bowl-a-thon Traveling Trophy and bragging rights. Each bowler will raise or pay a minimum donation of $25 (if registered in advance) or $30 (at the door) to participate in the bowl-a-thon. The money pays for three games of bowling\, shoes and a ticket to be part of the raffle. Come have a blast bowling and helping a wonderful program make a difference in the lives of local youth! The Court Appointed Youth Advocate (CAYA) Program seeks to reach every youth who is adjudicated delinquent in order to reduce the probability of reoffending by working directly with them. Our mission is to support the best interest of those youth who are involved in the juvenile justice system due to delinquent acts by promoting intervention services and providing a positive mentor. The Juvenile Magistrate appoints a youth advocate to assist in concerns of adolescents who have been adjudicated delinquent. The advocate acts as an additional support to all involved with the youth at this time and promotes better choices and personal growth.
LOCATION:Casey's Lanes 610 Colfax Ave La Porte\, IN 46350
UID:e.1949.2999
SEQUENCE:3
DTSTAMP:20260424T174244Z
URL:https://members.laportepartnership.com/events/details/caya-bowl-a-thon-peace-love-bowl-2999
END:VEVENT

END:VCALENDAR
