BEGIN:VCALENDAR
VERSION:2.0
PRODID:-//ChamberMaster//Event Calendar 2.0//EN
METHOD:PUBLISH
X-PUBLISHED-TTL:P3D
REFRESH-INTERVAL:P3D
CALSCALE:GREGORIAN
BEGIN:VEVENT
DTSTART:20200114T200000Z
DTEND:20200114T210000Z
X-MICROSOFT-CDO-ALLDAYEVENT:FALSE
SUMMARY:Census in Your Community of La Porte County
DESCRIPTION:The 2020 Census will influence federal allocations for health care\, education\, roads and so much more for the next decade. The data will inform business decisions\, government planning\, and allows our community to better understand how it is changing. An accurate count is paramount to Shaping Our Future.\n\n \n\nYou are invited to help us take ownership of our Census count by attending a special presentation entitled "Census in Your Community" from 2-3pm. Jan. 14 at MIchigan City LaPorte Visitor Center located at Marquette Mall in Michigan City. NIcholas Elliott\, US Census Bureau Partnership Specialist will share critical information about how the 2020 Census will be conducted\, the need to hire local people for Census jobs\, and how you can support Census outreach to improve the accuracy of our Census count. \n\n \n\nThis is one of several meetings being held around the state that aim to improve outreach and communication ahead of the 2020 Census.\n\n \n\nCensus Day is April 1\, 2020. Your and your community's participation in the Census is vital and you can make a difference in the future of our city\, county\, state and nation. Please join us Jan. 14 to learn more.
X-ALT-DESC;FMTTYPE=text/html:<p style="margin-top: 0px\; margin-bottom: 0px\;"><span style="font-family: Calibri\, Helvetica\, sans-serif\; font-size: 11pt\;">The 2020 Census will influence federal allocations for health care\, education\, roads and so much more for the next decade. The data will inform business decisions\, government planning\, and allows our community to better understand how it is changing. An accurate count is paramount to Shaping Our Future.</span></p>\n\n<p style="margin-top: 0px\; margin-bottom: 0px\;">&nbsp\;</p>\n\n<p style="margin-top: 0px\; margin-bottom: 0px\;"><span style="font-family: Calibri\, Helvetica\, sans-serif\; font-size: 11pt\;">You are invited to help us take ownership of our Census count by attending a special presentation entitled &ldquo\;Census in Your Community&rdquo\; from 2-3pm. Jan. 14 at MIchigan City LaPorte Visitor Center located at Marquette Mall in Michigan City. NIcholas Elliott\, US Census Bureau Partnership Specialist will share critical information about how the 2020 Census will be conducted\, the need to hire local people for Census jobs\, and how you can support Census outreach to improve the accuracy of our Census count.&nbsp\;</span></p>\n\n<p style="margin-top: 0px\; margin-bottom: 0px\;">&nbsp\;</p>\n\n<p style="margin-top: 0px\; margin-bottom: 0px\;"><span style="font-family: Calibri\, Helvetica\, sans-serif\; font-size: 11pt\;">This is one of several meetings being held around the state that aim to improve outreach and communication ahead of the 2020 Census.</span></p>\n\n<p style="margin-top: 0px\; margin-bottom: 0px\;">&nbsp\;</p>\n\n<p style="margin-top: 0px\; margin-bottom: 0px\;"><span style="font-family: Calibri\, Helvetica\, sans-serif\; font-size: 11pt\;">Census Day is April 1\, 2020. Your and your community&#39\;s participation in the Census is vital and you can make a difference in the future of our city\, county\, state and nation. Please join us Jan. 14 to learn more.</span></p>\n
LOCATION:Michigan City La Porte Visitor Convention Center (@ Marquette Mall) 4073 S. Franklin Street\, Michigan City
UID:e.1949.4561
SEQUENCE:3
DTSTAMP:20260423T005927Z
URL:https://members.laportepartnership.com/events/details/census-in-your-community-of-la-porte-county-4561
END:VEVENT

END:VCALENDAR
