BEGIN:VCALENDAR
VERSION:2.0
PRODID:-//ChamberMaster//Event Calendar 2.0//EN
METHOD:PUBLISH
X-PUBLISHED-TTL:P3D
REFRESH-INTERVAL:P3D
CALSCALE:GREGORIAN
BEGIN:VEVENT
DTSTART:20170923T133000Z
DTEND:20170923T220000Z
X-MICROSOFT-CDO-ALLDAYEVENT:FALSE
SUMMARY:Center for Hospice Care Volunteer Training
DESCRIPTION:From Compassion to Action\n\n2017 September Volunteer Training\n \n\nCenter for Hospice Care needs volunteers in St. Joseph\, La Porte\, Elkhart\, LaGrange\, Starke\, Marshall\, Kosciusko and Fulton Counties. The next Volunteer Training is in September & October. No previous health care experience is necessary. Volunteers are needed for:\n \n\n Patient Care\n\n Companionship\n\n Bereavement Callers\n\n Office Support\n\n Massage Therapists\n\n\n	Veteran Volunteers to serve our veteran patients\n\n\n Hair Stylists and Barbers\n\n\n	Pet Visitation\n	Camp Evergreen Grief Camp for Kids\n	Life Bio (capturing the life stories of our patients)\n\n	 \n\n	Training is comprehensive and will prepare volunteers for various opportunities. Following training\, volunteers may assist patients and families in activities such as respite\, transportation\, laundry\, errands\, companionship\, or bereavement. Volunteers will serve patients in their homes\, in nursing homes\, or may serve in office or clerical roles. Center for Hospice Care is in need of individuals with licensure/certification in massage therapy\, hair styling\, pet visitation\, or notary public.  \n\n	 \n\n	Training dates are:\n\n	 \n\n	September 23 & October 7\, 8:30 am   5 pm\n\n	Mishawaka Campus\, 501 Comfort Place\, Mishawaka\n\n	 \n\n	Registration required. Please contact Kristiana Donahue\, Volunteer Recruitment Coordinator\, (574) 286 -1198 or donahuek@cfhcare.org.
X-ALT-DESC;FMTTYPE=text/html:<br />\n<strong><span style="font-size:14pt"><span style="font-family:arial\,sans-serif">From Compassion to Action</span></span></strong><br />\n<strong><span style="font-size:13pt"><span style="font-family:arial\,sans-serif">2017 September Volunteer Training</span></span></strong>\n<h1 style="text-align: left\;">&nbsp\;</h1>\n\n<h1 style="text-align: left\;"><span style="font-size:12pt"><span style="font-family:arial\,sans-serif">Center for Hospice Care needs volunteers in St. Joseph\, La Porte\, Elkhart\, LaGrange\, Starke\, Marshall\, Kosciusko and Fulton Counties. </span></span><span style="font-size:12pt"><span style="font-family:arial\,sans-serif">The next Volunteer Training is in September &amp\; October. No previous health care experience is necessary. Volunteers are needed for:</span></span></h1>\n&nbsp\;\n\n<h1 style="text-align: left\;"><span style="font-size:12pt"><span style="font-family:symbol">&middot\;</span></span><strong><span style="font-size:12pt"><span style="font-family:arial\,sans-serif">Patient Care</span></span></strong></h1>\n\n<h1 style="text-align: left\;"><span style="font-size:12pt"><span style="font-family:symbol">&middot\;</span></span><strong><span style="font-size:12pt"><span style="font-family:arial\,sans-serif">Companionship</span></span></strong></h1>\n\n<h1 style="text-align: left\;"><span style="font-size:12pt"><span style="font-family:symbol">&middot\;</span></span><strong><span style="font-size:12pt"><span style="font-family:arial\,sans-serif">Bereavement Callers</span></span></strong></h1>\n\n<h1 style="text-align: left\;"><span style="font-size:12pt"><span style="font-family:symbol">&middot\;</span></span><strong><span style="font-size:12pt"><span style="font-family:arial\,sans-serif">Office Support</span></span></strong></h1>\n\n<h1 style="text-align: left\;"><span style="font-size:12pt"><span style="font-family:symbol">&middot\;</span></span><strong><span style="font-size:12pt"><span style="font-family:arial\,sans-serif">Massage Therapists</span></span></strong></h1>\n\n<ul>\n	<li><strong><span style="font-family:arial\,sans-serif">Veteran Volunteers to serve our veteran patients</span></strong></li>\n</ul>\n\n<h1 style="text-align: left\;"><span style="font-size:12pt"><span style="font-family:symbol">&middot\;</span></span><strong><span style="font-size:12pt"><span style="font-family:arial\,sans-serif">Hair Stylists and Barbers</span></span></strong></h1>\n\n<ul>\n	<li><strong><span style="font-family:arial\,sans-serif">Pet Visitation</span></strong></li>\n	<li><strong><span style="font-family:arial\,sans-serif">Camp Evergreen Grief Camp for Kids</span></strong></li>\n	<li><strong><span style="font-family:arial\,sans-serif">Life Bio (capturing the life stories of our patients)</span></strong><br />\n	&nbsp\;<br />\n	<span style="font-family:arial\,sans-serif">Training is comprehensive and will prepare volunteers for various opportunities. Following training\, volunteers may assist patients and families in activities such as respite\, transportation\, laundry\, errands\, companionship\, or bereavement. Volunteers will serve patients in their homes\, in nursing homes\, or may serve in office or clerical roles. Center for Hospice Care is in need of individuals with licensure/certification in massage therapy\, hair styling\, pet visitation\, or notary public.&nbsp\; </span><br />\n	&nbsp\;<br />\n	<span style="font-family:arial\,sans-serif">Training dates are:</span><br />\n	&nbsp\;<br />\n	<span style="font-family:arial\,sans-serif">September 23 &amp\; October 7\, 8:30 am &ndash\; 5 pm</span><br />\n	<span style="font-family:arial\,sans-serif">Mishawaka Campus\, 501 Comfort Place\, Mishawaka</span><br />\n	&nbsp\;<br />\n	<span style="font-family:arial\,sans-serif">Registration required. Please contact </span><span style="font-family:arial\,sans-serif">Kristiana Donahue\, Volunteer Recruitment Coordinator\, (574) 286 -1198 or donahuek@cfhcare.org.</span></li>\n</ul>\n
LOCATION:Mishawaka Campus\, 501 Comfort Place\, Mishawaka
UID:e.1949.2863
SEQUENCE:3
DTSTAMP:20260425T002449Z
URL:https://members.laportepartnership.com/events/details/center-for-hospice-care-volunteer-training-2863
END:VEVENT

END:VCALENDAR
