BEGIN:VCALENDAR
VERSION:2.0
PRODID:-//ChamberMaster//Event Calendar 2.0//EN
METHOD:PUBLISH
X-PUBLISHED-TTL:P3D
REFRESH-INTERVAL:P3D
CALSCALE:GREGORIAN
BEGIN:VEVENT
DTSTART:20170913T161500Z
DTEND:20170913T180000Z
X-MICROSOFT-CDO-ALLDAYEVENT:FALSE
SUMMARY:Centier Bank Seminar Luncheon- Best Places to Work
DESCRIPTION:The Greater La Porte Chamber of Commerce will host a seminar luncheon focusing on the Best Places to Work and Creating a Great Quality of Life in the Workplace on Wednesday\, September 13 at Mama T's Diner\, located at 607 Lincolnway in La Porte. Centier Bank will provide information on how they have become a Best Place to Work and give tips on how to improve workplace culture. This seminar will be great topic for those seeking to improve fun and excitement in the workplace\, which in turn will improve retention and employee morale.\n\n\n\nRegistration will begin at 11:15 a.m.\, and the program will begin at 11:30 a.m. This seminar is also sponsored by Centier Bank.\n\n\n\nThose interested in attending may register online by clicking the "Register Now" button above or call the Chamber at 219.362.3178. General admission will be $21\, while member pricing will be $16.\n\n\n\nTo learn more about Centier Bank\, visit their website at www.centier.com.
X-ALT-DESC;FMTTYPE=text/html:<span style="font-family:georgia\,serif\;"><span style="font-size:12.0pt\;">The Greater La Porte Chamber of Commerce will host a seminar luncheon focusing on the Best Places to Work and Creating a Great Quality of Life in the Workplace on Wednesday\, September 13 at Mama T&rsquo\;s Diner\, located at 607 Lincolnway in La Porte. Centier Bank will provide information on how they have become a Best Place to Work and give tips on how to improve workplace culture. This seminar will be great topic for those seeking to improve fun and excitement in the workplace\, which in turn will improve retention and employee morale.</span></span><br />\n<br />\n<span style="font-family:georgia\,serif\;"><span style="font-size:12.0pt\;">Registration will begin at 11:15 a.m.\, and the program will begin at 11:30 a.m. This seminar is also sponsored by Centier Bank.</span></span><br />\n<br />\n<span style="font-family:georgia\,serif\;"><span style="font-size:12.0pt\;">Those interested in attending may register online by clicking the &quot\;Register Now&quot\; button above or call the Chamber at 219.362.3178. General admission will be $21\, while member pricing will be $16.</span></span><br />\n<br />\n<span style="font-family:georgia\,serif\;"><span style="font-size:12.0pt\;">To learn more about Centier Bank\, visit their website at www.centier.com.</span></span>
LOCATION:Mama T's Diner 607 Lincolnway\, La Porte
UID:e.1949.2870
SEQUENCE:3
DTSTAMP:20260425T022018Z
URL:https://members.laportepartnership.com/events/details/centier-bank-seminar-luncheon-best-places-to-work-2870
END:VEVENT

END:VCALENDAR
