BEGIN:VCALENDAR
VERSION:2.0
PRODID:-//ChamberMaster//Event Calendar 2.0//EN
METHOD:PUBLISH
X-PUBLISHED-TTL:P3D
REFRESH-INTERVAL:P3D
CALSCALE:GREGORIAN
BEGIN:VEVENT
DTSTART:20180907T213000Z
DTEND:20180908T000000Z
X-MICROSOFT-CDO-ALLDAYEVENT:FALSE
SUMMARY:Century 21 Affiliated Ribbon Cutting and Open House
DESCRIPTION:Join La Porte Century 21 Affiliated for a ribbon cutting and open house event on Friday\, Sept. 7 from 4:30 p.m. to 7 p.m. The ribbon cutting will take place at 4:30 p.m. at Century 21 Affiliated\, 323 Pine Lake Ave. in La Porte and will be administered by the Greater La Porte Chamber of Commerce.\n\n\n\nThere is no cost to attend. Guests will also have the opportunity to attend the Open House immediately following the ribbon cutting from 5 p.m. to 7 p.m. the same day. Join us as they celebrate their La Porte location. Registration is encouraged and can be done by calling the Chamber at (219) 362-3178 or online at business.lpchamber.com/events.
X-ALT-DESC;FMTTYPE=text/html:<span style="color:black\;">Join La Porte <strong><a href="https://www.century21.com/for-sale-homes/La-Porte-IN-15410c">Century 21 Affiliated</a></strong></span><span style="color:black\;">&nbsp\;for a ribbon cutting and open house event on Friday\, Sept. 7 from 4:30 p.m. to 7 p.m. The ribbon cutting will take place at 4:30 p.m. at Century 21 Affiliated\, 323 Pine Lake Ave. in La Porte and will be administered by the <strong><a href="https://www.lpchamber.com/">Greater La Porte Chamber of Commerce</a>.</strong><br />\n<br />\nThere is no cost to attend. Guests will also have the opportunity to attend the Open House immediately following the ribbon cutting from 5 p.m. to 7 p.m. the same day. </span>Join us as they celebrate their La Porte location.<span style="color:black\;"> Registration is encouraged and can be done by calling the Chamber at (219) 362-3178 or online at business.lpchamber.com/events.</span><br />\n<br />\n<br />\n&nbsp\;
LOCATION:323 Pine Lake Ave\, La Porte\, IN 46350
UID:e.1949.4233
SEQUENCE:3
DTSTAMP:20260424T041926Z
URL:https://members.laportepartnership.com/events/details/century-21-affiliated-ribbon-cutting-and-open-house-4233
END:VEVENT

END:VCALENDAR
