BEGIN:VCALENDAR
VERSION:2.0
PRODID:-//ChamberMaster//Event Calendar 2.0//EN
METHOD:PUBLISH
X-PUBLISHED-TTL:P3D
REFRESH-INTERVAL:P3D
CALSCALE:GREGORIAN
BEGIN:VEVENT
DTSTART:20180626T130000Z
DTEND:20180626T140000Z
X-MICROSOFT-CDO-ALLDAYEVENT:FALSE
SUMMARY:Chamber Breakfast with the Northwest Indiana Workforce Board
DESCRIPTION:Join the Chamber for a breakfast on June 26 at 8:00 a.m. with special guests from the Northwest Indiana Workforce Board. The event will take place on June 26 at 8:00 a.m. at Bethany Lutheran Church\, 102 G Street\, La Porte.\n\n\n\nFrank Cardello\, Treasurer of the Northwest Indiana Workforce Board (NWIWB)\, will present an overview of the Board and its significant role in the region. Mr. Cardello will cover the NWIWB's work on human capital development and the initiatives\, resources\, and incentives available to employers looking to upskill their current workforce. Mr. Cardello is also Chief Financial Officer of Packaging Logic in La Porte.
X-ALT-DESC;FMTTYPE=text/html:<span style="color: rgb(69\, 69\, 69)\; font-family: Arial\, Helvetica\, sans-serif\; font-size: 13.3333px\;">Join the Chamber for a breakfast on June 26 at 8:00 a.m. with special guests from the Northwest Indiana Workforce Board. The event will take place on June 26 at 8:00 a.m. at Bethany Lutheran Church\, 102 G Street\, La Porte.</span><br />\n<br />\n<span style="font-family:pt sans\,sans-serif\;"><span style="font-size:10.5pt\;">Frank Cardello\, Treasurer of the Northwest Indiana Workforce Board (NWIWB)\, will present an overview of the Board and its significant role in the region. Mr. Cardello will cover the NWIWB&rsquo\;s work on human capital development and the initiatives\, resources\, and incentives available to employers looking to upskill their current workforce. Mr. Cardello is also Chief Financial Officer of Packaging Logic in La Porte.</span></span>
LOCATION:Bethany Lutheran Church 102 G Street La Porte
UID:e.1949.4173
SEQUENCE:3
DTSTAMP:20260424T085951Z
URL:https://members.laportepartnership.com/events/details/chamber-breakfast-with-the-northwest-indiana-workforce-board-4173
END:VEVENT

END:VCALENDAR
