BEGIN:VCALENDAR
VERSION:2.0
PRODID:-//ChamberMaster//Event Calendar 2.0//EN
METHOD:PUBLISH
X-PUBLISHED-TTL:P3D
REFRESH-INTERVAL:P3D
CALSCALE:GREGORIAN
BEGIN:VEVENT
DTSTART:20180524T130000Z
DTEND:20180524T140000Z
X-MICROSOFT-CDO-ALLDAYEVENT:FALSE
SUMMARY:Chamber Coffee Talk- May 2018
DESCRIPTION:Join the Chamber for Coffee Talk\, a networking event for La Porte area business people! This event will be at State Street Community Church\, 209 State Street in LaPorte\, at 8:00 a.m. on May 24. Each business person will have a brief moment to introduce themselves and their business to the group with plenty of time for networking and connection making afterwards.\n\n\n\nThis event is free of charge. There will also be free coffee offered at this event. Family Advocates is the highlighted nonprofit for this event and will speak briefly about their programs and services.\n\n\n\nRegister by clicking the link above or call 219.362.3178 for more information. Registration is strongly encouraged.
X-ALT-DESC;FMTTYPE=text/html:<span style="color: rgb(69\, 69\, 69)\; font-family: Arial\, Helvetica\, sans-serif\; font-size: 13.3333px\;">Join the Chamber for Coffee Talk\, a networking event for La Porte area business people! This event will be at State Street Community Church\, 209 State Street in&nbsp\;LaPorte\, at 8:00 a.m. on May 24. Each business person will have a brief moment to introduce themselves and their business to the group with plenty of time for networking and connection making afterwards.</span><br style="color: rgb(69\, 69\, 69)\; font-family: Arial\, Helvetica\, sans-serif\; font-size: 13.3333px\;" />\n<br style="color: rgb(69\, 69\, 69)\; font-family: Arial\, Helvetica\, sans-serif\; font-size: 13.3333px\;" />\n<span style="color: rgb(69\, 69\, 69)\; font-family: Arial\, Helvetica\, sans-serif\; font-size: 13.3333px\;">This event is free of charge. There will also be free coffee offered at this event.&nbsp\;</span><a _mce_href="http://www.lpfamilyadvocates.com/" _mce_style="font-weight: bold\; color: #c24f13 !important\; text-decoration: none !important\;" href="http://www.lpfamilyadvocates.com/" linktype="1" style="font-weight: bold\; color: rgb(194\, 79\, 19) !important\; text-decoration-line: none !important\;" target="_blank" track="on">Family Advocates</a><span style="color: rgb(69\, 69\, 69)\; font-family: Arial\, Helvetica\, sans-serif\; font-size: 13.3333px\;">&nbsp\;is the highlighted nonprofit for this event and will speak briefly about their programs and services.</span><br style="color: rgb(69\, 69\, 69)\; font-family: Arial\, Helvetica\, sans-serif\; font-size: 13.3333px\;" />\n<br style="color: rgb(69\, 69\, 69)\; font-family: Arial\, Helvetica\, sans-serif\; font-size: 13.3333px\;" />\n<span style="color: rgb(69\, 69\, 69)\; font-family: Arial\, Helvetica\, sans-serif\; font-size: 13.3333px\;">Register by clicking the link above or call 219.362.3178 for more information. Registration is strongly encouraged.</span>
LOCATION:State Street Community Church 209 State Street La Porte
UID:e.1949.4118
SEQUENCE:3
DTSTAMP:20260424T103234Z
URL:https://members.laportepartnership.com/events/details/chamber-coffee-talk-may-2018-4118
END:VEVENT

END:VCALENDAR
