BEGIN:VCALENDAR
VERSION:2.0
PRODID:-//ChamberMaster//Event Calendar 2.0//EN
METHOD:PUBLISH
X-PUBLISHED-TTL:P3D
REFRESH-INTERVAL:P3D
CALSCALE:GREGORIAN
BEGIN:VEVENT
DTSTART:20190416T123000Z
DTEND:20190416T140000Z
X-MICROSOFT-CDO-ALLDAYEVENT:FALSE
SUMMARY:Chamber Coffee Talk- Morning Networking April
DESCRIPTION:Join us for Chamber Coffee Talk\, a networking event for La Porte business people! This event will take place at People Ready\, loacted at 1719 State Street\, Suite O in La Porte\, at 7:30 a.m. Attendees will be given a chance to do a brief 30 second introduction about their business or organization with time for networking after.\n\n\n\nThis event is free of charge and coffee will be provided.\n\n\n\nThese events will also highlight a nonprofit or community-based member of the Chamber at each meeting.\n\n\n\nRegister by clicking the link above or call 219.324.8584 for more information or to register. By registering for this event\, you are not registering for all future Chamber Coffee Talk events.\n\n\n\nThis event will take place the third Tuesday of every month at 7:30 a.m.
X-ALT-DESC;FMTTYPE=text/html:<span style="color: rgb(0\, 0\, 0)\; font-family: Arial\, Helvetica\, sans-serif\; font-size: 16px\;">Join us for Chamber Coffee Talk\, a networking event for La Porte business people! This event will take place at People Ready\, loacted at 1719 State Street\, Suite O in La Porte\,&nbsp\;at 7:30 a.m. Attendees will be given a chance to do a brief 30 second introduction about their business or organization with time for networking after.</span><br style="color: rgb(0\, 0\, 0)\; font-family: Arial\, Helvetica\, sans-serif\; font-size: 16px\;" />\n<br style="color: rgb(0\, 0\, 0)\; font-family: Arial\, Helvetica\, sans-serif\; font-size: 16px\;" />\n<span style="color: rgb(0\, 0\, 0)\; font-family: Arial\, Helvetica\, sans-serif\; font-size: 16px\;">This event is free of charge and coffee will be provided.</span><br style="color: rgb(0\, 0\, 0)\; font-family: Arial\, Helvetica\, sans-serif\; font-size: 16px\;" />\n<br />\n<span style="font-size:16px\;">These events will also highlight a nonprofit or community-based member of the Chamber at each meeting.</span><br />\n<br style="color: rgb(0\, 0\, 0)\; font-family: Arial\, Helvetica\, sans-serif\; font-size: 16px\;" />\n<span style="color: rgb(0\, 0\, 0)\; font-family: Arial\, Helvetica\, sans-serif\; font-size: 16px\;">Register by clicking the link above or call 219.324.8584 for more information or to register. By registering for this event\, you are not registering for all future Chamber Coffee Talk events.</span><br style="color: rgb(0\, 0\, 0)\; font-family: Arial\, Helvetica\, sans-serif\; font-size: 16px\;" />\n<br style="color: rgb(0\, 0\, 0)\; font-family: Arial\, Helvetica\, sans-serif\; font-size: 16px\;" />\n<span style="color: rgb(0\, 0\, 0)\; font-family: Arial\, Helvetica\, sans-serif\; font-size: 16px\;">This event will take place the third Tuesday of every month at 7:30 a.m.</span>
LOCATION:People Ready 1719 State Street\, Suite O La Porte
UID:e.1949.4346
SEQUENCE:3
DTSTAMP:20260423T165739Z
URL:https://members.laportepartnership.com/events/details/chamber-coffee-talk-morning-networking-april-4346
END:VEVENT

END:VCALENDAR
