BEGIN:VCALENDAR
VERSION:2.0
PRODID:-//ChamberMaster//Event Calendar 2.0//EN
METHOD:PUBLISH
X-PUBLISHED-TTL:P3D
REFRESH-INTERVAL:P3D
CALSCALE:GREGORIAN
BEGIN:VEVENT
DTSTART:20170321T123000Z
DTEND:20170321T140000Z
X-MICROSOFT-CDO-ALLDAYEVENT:FALSE
SUMMARY:Chamber Coffee Talk- Morning Networking March
DESCRIPTION:Join us for Chamber Coffee Talk\, a networking event for La Porte business people! This event will take place at Mama T's Diner\, 607 Lincolnway in La Porte at 7:30 a.m. Attendees will be given a chance to do a brief 30 second introduction about their business or organization with time for networking after.\n\n\n\nThis event is free of charge\, but coffee and light refreshments will be available at the cost of the attendee.\n\n\n\nRegister by clicking the link above or call 219.362.3178 for more information or to register. By registering for this event\, you are not registering for all future Chamber Coffee Talk events.\n\n\n\nThis event will take place the third Tuesday of every month at 7:30 a.m.
X-ALT-DESC;FMTTYPE=text/html:<span style="color: rgb(0\, 0\, 0)\; font-family: Arial\, Helvetica\, sans-serif\; font-size: 16px\;">Join us for Chamber Coffee Talk\, a networking event for La Porte business people! This event will take place at Mama T&#39\;s Diner\, 607 Lincolnway in La Porte at 7:30 a.m. Attendees will be given a chance to do a brief 30 second introduction about their business or organization with time for networking after.</span><br style="color: rgb(0\, 0\, 0)\; font-family: Arial\, Helvetica\, sans-serif\; font-size: 16px\;" />\n<br style="color: rgb(0\, 0\, 0)\; font-family: Arial\, Helvetica\, sans-serif\; font-size: 16px\;" />\n<span style="color: rgb(0\, 0\, 0)\; font-family: Arial\, Helvetica\, sans-serif\; font-size: 16px\;">This event is free of charge\, but coffee and light refreshments will be available at the cost of the attendee.</span><br style="color: rgb(0\, 0\, 0)\; font-family: Arial\, Helvetica\, sans-serif\; font-size: 16px\;" />\n<br style="color: rgb(0\, 0\, 0)\; font-family: Arial\, Helvetica\, sans-serif\; font-size: 16px\;" />\n<span style="color: rgb(0\, 0\, 0)\; font-family: Arial\, Helvetica\, sans-serif\; font-size: 16px\;">Register by clicking the link above or call 219.362.3178 for more information or to register. By registering for this event\, you are not registering for all future Chamber Coffee Talk events.</span><br style="color: rgb(0\, 0\, 0)\; font-family: Arial\, Helvetica\, sans-serif\; font-size: 16px\;" />\n<br style="color: rgb(0\, 0\, 0)\; font-family: Arial\, Helvetica\, sans-serif\; font-size: 16px\;" />\n<span style="color: rgb(0\, 0\, 0)\; font-family: Arial\, Helvetica\, sans-serif\; font-size: 16px\;">This event will take place the third Tuesday of every month at 7:30 a.m.</span>
LOCATION:Mama T's Diner 607 Lincolnway
UID:e.1949.2739
SEQUENCE:3
DTSTAMP:20260425T114613Z
URL:https://members.laportepartnership.com/events/details/chamber-coffee-talk-morning-networking-march-2739
END:VEVENT

END:VCALENDAR
