BEGIN:VCALENDAR
VERSION:2.0
PRODID:-//ChamberMaster//Event Calendar 2.0//EN
METHOD:PUBLISH
X-PUBLISHED-TTL:P3D
REFRESH-INTERVAL:P3D
CALSCALE:GREGORIAN
BEGIN:VEVENT
DTSTART:20170928T220000Z
DTEND:20170928T233000Z
X-MICROSOFT-CDO-ALLDAYEVENT:FALSE
SUMMARY:Chamber\, Rotary & Unity After Hours Event
DESCRIPTION:We invite you to a special After-Hours Event \n\nat Unity Park\n\nPine Lake Avenue Next to T-Bones Pier 11\n\n5:00 to 6:30pm\, Thursday\, September 28\n\nFun\, Fellowship and Libations\n\nRain or shine!\n\nWe encourage you to let us know by September 25 if you can join us by clicking the "Register Now" button above or by phone at 219-362-3178\n\n\n\nThe Greater La Porte Chamber of Commerce\n\nMission:\n\nThe Greater LaPorte Chamber of Commerce will champion issues facing business\, focus on the improvement of the quality of life in our community\; and be a team consisting of the Board of Directors\, staff and volunteer members providing a catalyst for prosperity and growth.\n\nVision:\n\nThe Greater LaPorte Chamber of Commerce is a leader and active participant in progressive community development by enhancing the quality of life of the entire community and advocating its member needs.\n\n \n\nThe Rotary Club of La Porte\n\nMission:\n\nTo bring community leaders together to improve the quality of life in the community and the world.\n\nVision:\n\nThe Rotary Club of La Porte is an energized group of men and women of all ages\, who enjoy each other's company\, have fun working together\, and are committed to Service Above Self to make a positive difference in the community and the world.\n\n \n\nThe Unity Foundation of La Porte County\n\nMission:\n\nUnity Foundation will strengthen La Porte County now and forever by:\n\n	Building permanent endowments\n	Providing leadership\n	Offering philanthropic vehicles for everyone\n	Being a catalyst for social and economic vitality\n\nVision:\n\nWe envision La Porte County to be a dynamic county\, recognized for its investment in its people\, economic vitality\, and rich quality of life\, and to be a model for innovative leadership and supportive citizenry.
X-ALT-DESC;FMTTYPE=text/html:<strong><span style="color: rgb(84\, 141\, 212)\;"><span style="font-family: arial\, sans-serif\;"><span style="font-size: 16pt\;">We invite you to a special After-Hours Event </span></span></span></strong><br />\n<strong><span style="color:#548DD4\;"><span style="font-family:arial\,sans-serif\;"><span style="font-size:16.0pt\;">at Unity Park</span></span></span></strong><br />\n<strong><span style="color:#548DD4\;"><span style="font-family:arial\,sans-serif\;"><span style="font-size:16.0pt\;">Pine Lake Avenue Next to T-Bones Pier 11</span></span></span></strong><br />\n<strong><span style="color:#548DD4\;"><span style="font-family:arial\,sans-serif\;"><span style="font-size:16.0pt\;">5:00 to 6:30pm\, Thursday\, September 28</span></span></span></strong><br />\n<strong><span style="color:#548DD4\;"><span style="font-family:arial\,sans-serif\;"><span style="font-size:16.0pt\;">Fun\, Fellowship and Libations</span></span></span></strong><br />\n<strong><span style="color:#548DD4\;"><span style="font-family:arial\,sans-serif\;"><span style="font-size:16.0pt\;">Rain or shine!</span></span></span></strong><br />\n<strong><span style="color:#548DD4\;"><span style="font-family:arial\,sans-serif\;"><span style="font-size:16.0pt\;">We encourage you to let us know by September 25 if you can join us by clicking the &quot\;Register Now&quot\; button above</span></span></span></strong><span style="color:#548DD4\;"><span style="font-family:arial\,sans-serif\;"><span style="font-size:16.0pt\;"><strong>&nbsp\;or by phone at 219-362-3178</strong></span></span></span><br />\n<br />\n<strong><span style="font-size:14.0pt\;">The Greater La Porte Chamber of Commerce</span></strong><br />\n<strong><span style="font-size:15.0pt\;">Mission:</span></strong><br />\n<span style="font-size:12.0pt\;">The Greater LaPorte Chamber of Commerce will champion issues facing business\, focus on the improvement of the quality of life in our community\; and be a team consisting of the Board of Directors\, staff and volunteer members providing a catalyst for prosperity and growth.</span><br />\n<strong><span style="font-size:15.0pt\;">Vision:</span></strong><br />\n<span style="font-size:12.0pt\;">The Greater LaPorte Chamber of Commerce is a leader and active participant in progressive community development by enhancing the quality of life of the entire community and advocating its member needs.</span><br />\n&nbsp\;<br />\n<strong><span style="font-size:14.0pt\;">The Rotary Club of La Porte</span></strong><br />\n<strong><span style="font-size:15.0pt\;">Mission:</span></strong><br />\n<span style="font-size:12.0pt\;">To bring community leaders together to improve the quality of life in the community and the world.</span><br />\n<strong><span style="font-size:15.0pt\;">Vision:</span></strong><br />\n<span style="font-size:12.0pt\;">The Rotary Club of La Porte is an energized group of men and women of all ages\, who enjoy each other&rsquo\;s company\, have fun working together\, and are committed to Service Above Self to make a positive difference in the community and the world.</span><br />\n&nbsp\;<br />\n<strong><span style="font-size:14.0pt\;">The Unity Foundation of La Porte County</span></strong><br />\n<strong><span style="font-size:15.0pt\;">Mission:</span></strong><br />\n<span style="font-family:arial\,sans-serif\;"><span style="font-size:12pt\;">Unity Foundation will strengthen La Porte County now and forever by:</span></span>\n<ul>\n	<li style="vertical-align:baseline\;"><span style="font-family:arial\,sans-serif\;"><span style="font-size:12pt\;">Building permanent endowments</span></span></li>\n	<li style="vertical-align:baseline\;"><span style="font-family:arial\,sans-serif\;"><span style="font-size:12pt\;">Providing leadership</span></span></li>\n	<li style="vertical-align:baseline\;"><span style="font-family:arial\,sans-serif\;"><span style="font-size:12pt\;">Offering philanthropic vehicles for everyone</span></span></li>\n	<li style="vertical-align:baseline\;"><span style="font-family:arial\,sans-serif\;"><span style="font-size:12pt\;">Being a catalyst for social and economic vitality</span></span></li>\n</ul>\n<strong><span style="font-size:15.0pt\;">Vision:</span></strong><br />\n<span style="font-family:arial\,sans-serif\;"><span style="font-size:12pt\;">We envision La Porte County to be a dynamic county\, recognized for its investment in its people\, economic vitality\,</span></span> <span style="font-family:arial\,sans-serif\;"><span style="font-size:12pt\;">and rich quality of life\, and to be a model for innovative leadership and supportive citizenry.</span></span><br />\n<br />\n<br />\n&nbsp\;
LOCATION:Unity Park 1010 Pine Lake Avenue\, La Porte
UID:e.1949.2872
SEQUENCE:3
DTSTAMP:20260425T002245Z
URL:https://members.laportepartnership.com/events/details/chamber-rotary-unity-after-hours-event-2872
END:VEVENT

END:VCALENDAR
