BEGIN:VCALENDAR
VERSION:2.0
PRODID:-//ChamberMaster//Event Calendar 2.0//EN
METHOD:PUBLISH
X-PUBLISHED-TTL:P3D
REFRESH-INTERVAL:P3D
CALSCALE:GREGORIAN
BEGIN:VEVENT
DTSTART:20190329T210000Z
DTEND:20190329T230000Z
X-MICROSOFT-CDO-ALLDAYEVENT:FALSE
SUMMARY:Chessie Trail Dedication
DESCRIPTION:After months of anticipation\, the City of La Porte will dedicate the first phase of the Chessie Trail\, a mile-long stretch of multi-use path from Pine Lake to NewPorte Landing\, at 4 p.m. Friday\, March 29\, at Kiwanis-Teledyne Park. The public is invited for the ribbon-cutting followed by a community ride\, run and walk to christen the trail. The community ride\, run and walk will launch from the newly-constructed trailhead in Kiwanis-Teledyne Park but will not follow a set course\, as participants are encouraged to enjoy the trail at their own pace and even venture over to the multi-use trail constructed along Clear Lake Boulevard last fall. There is no registration necessary.
X-ALT-DESC;FMTTYPE=text/html:<span style="color: rgb(51\, 51\, 51)\; font-family: Arial\; font-size: 12.8px\; background-color: rgb(255\, 255\, 255)\;">After months of anticipation\, the City of La Porte will dedicate the first phase of the Chessie Trail\, a mile-long stretch of multi-use path from Pine Lake to NewPorte Landing\, at 4 p.m. Friday\, March 29\, at Kiwanis-Teledyne Park. The public is invited for the ribbon-cutting followed by a community ride\, run and walk to christen the trail. The community ride\, run and walk will launch from the newly-constructed trailhead in Kiwanis-Teledyne Park but will not follow a set course\, as participants are encouraged to enjoy the trail at their own pace and even venture over to the multi-use trail constructed along Clear Lake Boulevard last fall. There is no registration necessary.</span>
LOCATION:Kiwanis-Teledyne Park Pine Lake Avenue La Porte\, IN 46350
UID:e.1949.4348
SEQUENCE:3
DTSTAMP:20260423T183525Z
URL:https://members.laportepartnership.com/events/details/chessie-trail-dedication-4348
END:VEVENT

END:VCALENDAR
