BEGIN:VCALENDAR
VERSION:2.0
PRODID:-//ChamberMaster//Event Calendar 2.0//EN
METHOD:PUBLISH
X-PUBLISHED-TTL:P3D
REFRESH-INTERVAL:P3D
CALSCALE:GREGORIAN
BEGIN:VEVENT
DTSTART:20171217T160000Z
DTEND:20171217T173000Z
X-MICROSOFT-CDO-ALLDAYEVENT:FALSE
SUMMARY:Children’s Christmas Musical at the Presbyterian Church of La Porte
DESCRIPTION:Children's Christmas Musical\n\nSunday December 17th @ 10am\n\n \n\n            Join us at the Presbyterian Church of La Porte for a special blended service at 10 am to hear some of the wonderful children and youth from our community perform a mini musical. The musical "Children Sing at Christmas" is an adaptation from the play\, Just a Little Christmas by Sharon Kay Chatwell. Come and enjoy the story of Jesus' Birth in drama and song. This is sure to be a unique Christmas treat you won't want to miss! What a wonderful opportunity to come together\, share in some holiday cheer\, and support the next generation of our community!
X-ALT-DESC;FMTTYPE=text/html:<p align="center" class="Body" style="text-align:center">Children&rsquo\;s Christmas Musical<o:p></o:p></p>\n\n<p align="center" class="Body" style="text-align:center">Sunday December 17th @ 10am<o:p></o:p></p>\n\n<p align="center" class="Body" style="text-align:center"><o:p>&nbsp\;</o:p></p>\n\n<p class="Body">&nbsp\;&nbsp\;&nbsp\;&nbsp\;&nbsp\;&nbsp\;&nbsp\;&nbsp\;&nbsp\;&nbsp\;&nbsp\; Join us at the Presbyterian Church of La Porte for a special blended service at 10 am to hear some of the wonderful children and youth from our community perform a mini musical. The musical &ldquo\;Children Sing at Christmas&rdquo\; is an adaptation from the play\, <i>Just a Little Christmas</i> by Sharon Kay Chatwell. Come and enjoy the story of Jesus&rsquo\; Birth in drama and song. This is sure to be a unique Christmas treat you won&rsquo\;t want to miss! What a wonderful opportunity to come together\, share in some holiday cheer\, and support the next generation of our community!<o:p></o:p></p>\n
LOCATION:The Presbyterian Church of La Porte 307 Kingsbury Avenue La Porte
UID:e.1949.2959
SEQUENCE:3
DTSTAMP:20260424T194000Z
URL:https://members.laportepartnership.com/events/details/children-s-christmas-musical-at-the-presbyterian-church-of-la-porte-2959
END:VEVENT

END:VCALENDAR
