BEGIN:VCALENDAR
VERSION:2.0
PRODID:-//ChamberMaster//Event Calendar 2.0//EN
METHOD:PUBLISH
X-PUBLISHED-TTL:P3D
REFRESH-INTERVAL:P3D
CALSCALE:GREGORIAN
BEGIN:VEVENT
DTSTART:20170222T220000Z
DTEND:20170223T020000Z
X-MICROSOFT-CDO-ALLDAYEVENT:FALSE
SUMMARY:Chipotle Give Back - Relay For Life
DESCRIPTION:50% of proceeds between 4pm -8pm will go to Relay. Bring in a flyer (www.facebook.com/laportecounty)\, or show it on your phone\, or tell the cashier you're there to support Relay For Life.
X-ALT-DESC;FMTTYPE=text/html:50% of proceeds between 4pm -8pm will go to Relay. Bring in a flyer (www.facebook.com/laportecounty)\, or show it on your phone\, or tell the cashier you&#39\;re there to support Relay For Life.
LOCATION:Chipotle 5218 South Franklin St Michigan City\, IN 46360
UID:e.1949.2711
SEQUENCE:3
DTSTAMP:20260425T150845Z
URL:https://members.laportepartnership.com/events/details/chipotle-give-back-relay-for-life-2711
END:VEVENT

END:VCALENDAR
