BEGIN:VCALENDAR
VERSION:2.0
PRODID:-//ChamberMaster//Event Calendar 2.0//EN
METHOD:PUBLISH
X-PUBLISHED-TTL:P3D
REFRESH-INTERVAL:P3D
CALSCALE:GREGORIAN
BEGIN:VEVENT
DTSTART:20171025T170000Z
DTEND:20171025T180000Z
X-MICROSOFT-CDO-ALLDAYEVENT:FALSE
SUMMARY:Cloud Communication Lunch & Learn-Qubit Networks
DESCRIPTION:Please join us at Country Inn & Suites on October 25th at 12:00 pm. We are co-hosting an informative lunch and learn with our partner\, Appia Communications.\n\nWe will discuss what cloud communication is and how it is beneficial for every business. You don't want to miss this event! Some key points will include:\n\n \n\n-Ease of communication\n\n-Scalability for your business \n\n-Secure\, redundant data centers\n\n-Reliable communication\n\n-Positioning your business for a bigger\, brighter future in the cloud\n\n \n\nPlease contact Nikki Phelan (nikki@qubitnet.com) if you have any questions regarding this event.
X-ALT-DESC;FMTTYPE=text/html:<p>Please join us at Country Inn &amp\; Suites on October 25th at 12:00 pm. We are co-hosting an informative lunch and learn with our partner\, Appia Communications.</p>\n\n<p>We will discuss what cloud communication is and how it is beneficial for every business. You don&#39\;t want to miss this event! Some key points will include:</p>\n\n<p>&nbsp\;</p>\n\n<p><em>-Ease of communication</em><br />\n<em>-Scalability for your business </em><br />\n<em>-Secure\, redundant data centers</em><br />\n<em>-Reliable communication</em><br />\n<em>-Positioning your business for a bigger\, brighter future in the cloud</em></p>\n\n<p>&nbsp\;</p>\n\n<p>Please contact Nikki Phelan (nikki@qubitnet.com) if you have any questions regarding this event.</p>\n
LOCATION:Country Inn & Suites 3805 Frontage Road Michigan City\, IN 46360
UID:e.1949.2890
SEQUENCE:3
DTSTAMP:20260425T002134Z
URL:https://members.laportepartnership.com/events/details/cloud-communication-lunch-learn-qubit-networks-2890
END:VEVENT

END:VCALENDAR
