BEGIN:VCALENDAR
VERSION:2.0
PRODID:-//ChamberMaster//Event Calendar 2.0//EN
METHOD:PUBLISH
X-PUBLISHED-TTL:P3D
REFRESH-INTERVAL:P3D
CALSCALE:GREGORIAN
BEGIN:VEVENT
DTSTART:20160607T213000Z
DTEND:20160608T000000Z
X-MICROSOFT-CDO-ALLDAYEVENT:FALSE
SUMMARY:Cocktails for a Cure
DESCRIPTION:$10 ticket for admittance (100% of proceeds go to Relay For Life) Appetizers donated by Patrick's Grille & drink specials will be available. Tickets must be purchased in advance. Contact Kristin at 219-851-3418
X-ALT-DESC;FMTTYPE=text/html:$10 ticket for admittance (100% of proceeds go to Relay For Life) Appetizers donated by Patrick&rsquo\;s Grille &amp\; drink specials will be available. Tickets must be purchased in advance. Contact Kristin at 219-851-3418
LOCATION:Patrick's Grille 4125 Franklin St Michigan City\, IN
UID:e.1949.2563
SEQUENCE:3
DTSTAMP:20260426T033911Z
URL:https://members.laportepartnership.com/events/details/cocktails-for-a-cure-06-07-2016-2563
END:VEVENT

END:VCALENDAR
