BEGIN:VCALENDAR
VERSION:2.0
PRODID:-//ChamberMaster//Event Calendar 2.0//EN
METHOD:PUBLISH
X-PUBLISHED-TTL:P3D
REFRESH-INTERVAL:P3D
CALSCALE:GREGORIAN
BEGIN:VEVENT
DTSTART:20200218T133000Z
DTEND:20200218T144500Z
X-MICROSOFT-CDO-ALLDAYEVENT:FALSE
SUMMARY:Coffee Talk- February 2020
DESCRIPTION:Join us for Coffee Talk\, a networking event for La Porte area business people! This event will be at State Street Community Church\, 209 State Street in La Porte\, at 7:30 a.m. on February 18. Each business person will have a brief moment to introduce themselves and their business to the group with plenty of time for networking and connection making afterwards.\n\n\n\nThis event is free of charge. There will also be free coffee offered at this event.\n\n\n\nRegister by clicking the link above or call 219.324.8584 for more information. Registration is strongly encouraged.
X-ALT-DESC;FMTTYPE=text/html:<span style="color: rgb(69\, 69\, 69)\; font-family: Arial\, Helvetica\, sans-serif\; font-size: 13.3333px\;">Join us for Coffee Talk\, a networking event for La Porte area business people! This event will be at State Street Community Church\, 209 State Street in&nbsp\;La Porte\, at 7:30 a.m. on February 18. Each business person will have a brief moment to introduce themselves and their business to the group with plenty of time for networking and connection making afterwards.</span><br style="color: rgb(69\, 69\, 69)\; font-family: Arial\, Helvetica\, sans-serif\; font-size: 13.3333px\;" />\n<br style="color: rgb(69\, 69\, 69)\; font-family: Arial\, Helvetica\, sans-serif\; font-size: 13.3333px\;" />\n<span style="color: rgb(69\, 69\, 69)\; font-family: Arial\, Helvetica\, sans-serif\; font-size: 13.3333px\;">This event is free of charge. There will also be free coffee offered at this event.</span><br style="color: rgb(69\, 69\, 69)\; font-family: Arial\, Helvetica\, sans-serif\; font-size: 13.3333px\;" />\n<br style="color: rgb(69\, 69\, 69)\; font-family: Arial\, Helvetica\, sans-serif\; font-size: 13.3333px\;" />\n<span style="color: rgb(69\, 69\, 69)\; font-family: Arial\, Helvetica\, sans-serif\; font-size: 13.3333px\;">Register by clicking the link above or call 219.324.8584 for more information. Registration is strongly encouraged.</span>
LOCATION:State Street Community Church 209 State Street La Porte
UID:e.1949.4566
SEQUENCE:3
DTSTAMP:20260423T010714Z
URL:https://members.laportepartnership.com/events/details/coffee-talk-february-2020-4566
END:VEVENT

END:VCALENDAR
