BEGIN:VCALENDAR
VERSION:2.0
PRODID:-//ChamberMaster//Event Calendar 2.0//EN
METHOD:PUBLISH
X-PUBLISHED-TTL:P3D
REFRESH-INTERVAL:P3D
CALSCALE:GREGORIAN
BEGIN:VEVENT
DTSTART:20171015T210000Z
DTEND:20171015T220000Z
X-MICROSOFT-CDO-ALLDAYEVENT:FALSE
SUMMARY:“Come Together” in prayer- The Presbyterian Church of La Porte
DESCRIPTION:When:  Sunday\, October 15th\, 4:00 PM\n\nWhere:  The Presbyterian Church of La Porte\, 307 Kingsbury Ave\n\n                On Sunday\, October 15th\, The Presbyterian Church of La Porte is inviting friends and neighbors from the community to join in a prayer service for our nation and for our world.  The amount of suffering in our nation has been overwhelming recently.  We have been devastated by a set of hurricanes in Texas\, Florida and most recently in Puerto Rico.  The tragic killings in Los Vegas only adds to the sorrow we feel for those who are suffering.  The Presbyterian Church of La Porte invites you\, your neighbors\, your friends and the whole town to join them for a brief prayer service on October 15th.  We will sing\, pray and light candles in remembrance of the Light of the world who calls us to be light to our world.  Pass the word and invite a friend\, please.
X-ALT-DESC;FMTTYPE=text/html:<span style="color:#1F497D\;"><span style="font-size:11.0pt\;">When:&nbsp\; Sunday\, October 15th\, 4:00 PM</span></span><br />\n<span style="color:#1F497D\;"><span style="font-size:11.0pt\;">Where:&nbsp\; The Presbyterian Church of La Porte\, 307 Kingsbury Ave</span></span><br />\n<span style="color:#1F497D\;"><span style="font-size:11.0pt\;">&nbsp\;&nbsp\;&nbsp\;&nbsp\;&nbsp\;&nbsp\;&nbsp\;&nbsp\;&nbsp\;&nbsp\;&nbsp\;&nbsp\;&nbsp\;&nbsp\;&nbsp\; On Sunday\, October 15th\, The Presbyterian Church of La Porte is inviting friends and neighbors from the community to join in a prayer service for our nation and for our world.&nbsp\; The amount of suffering in our nation has been overwhelming recently.&nbsp\; We have been devastated by a set of hurricanes in Texas\, Florida and most recently in Puerto Rico.&nbsp\; The tragic killings in Los Vegas only adds to the sorrow we feel for those who are suffering.&nbsp\; The Presbyterian Church of La Porte invites you\, your neighbors\, your friends and the whole town to join them for a brief prayer service on October 15th.&nbsp\; We will sing\, pray and light candles in remembrance of the Light of the world who calls us to be light to our world.&nbsp\; Pass the word and invite a friend\, please.</span></span>
LOCATION:The Presbyterian Church of La Porte\, 307 Kingsbury Ave
UID:e.1949.2906
SEQUENCE:3
DTSTAMP:20260424T230951Z
URL:https://members.laportepartnership.com/events/details/come-together-in-prayer-the-presbyterian-church-of-la-porte-2906
END:VEVENT

END:VCALENDAR
