BEGIN:VCALENDAR
VERSION:2.0
PRODID:-//ChamberMaster//Event Calendar 2.0//EN
METHOD:PUBLISH
X-PUBLISHED-TTL:P3D
REFRESH-INTERVAL:P3D
CALSCALE:GREGORIAN
BEGIN:VEVENT
DTSTART:20200306T133000Z
DTEND:20200306T150000Z
X-MICROSOFT-CDO-ALLDAYEVENT:FALSE
SUMMARY:Community Engagement Series - March 2020
DESCRIPTION:The La Porte Economic Advancement Partnership will host the first quarterly Community Engagement Series presented by Horizon Bank at La Porte County Public Library in Meeting Room B\, located at 904 Indiana Avenue in La Porte\, on March 6.\n\n\n\n \n\n\n\nThe event will feature an update from the City of La Porte complete with a Q&A session. Panel includes Mayor Tom Dermody\, Chief of Police Paul Brettin\, Director of Code Compliance Jeff Batchelor\, and Executive Director of LEAP Bert Cook. Registration will begin at 7:30 a.m.\n\n\n\n \n\n\n\nSpace is limited and registration is encouraged. This can be done by using the link to the right. The cost is free for LEAP members and $15 for non-LEAP members.
X-ALT-DESC;FMTTYPE=text/html:<div data-block="true" data-editor="fhhbp" data-offset-key="fduee-0-0" style="font-family: Helvetica\, Arial\, sans-serif\; color: rgb(28\, 30\, 33)\; font-size: 12px\; white-space: pre-wrap\; background-color: rgb(255\, 255\, 255)\;">\n<div class="_1mf _1mj" data-offset-key="fduee-0-0" style="position: relative\; direction: ltr\; font-family: inherit\;"><span data-offset-key="fduee-0-0" style="font-family: inherit\;">The La Porte Economic Advancement Partnership will host the first quarterly Community Engagement Series presented by Horizon Bank at La Porte County Public Library in Meeting Room B\, located at 904 Indiana Avenue in La Porte\, on March 6.</span></div>\n</div>\n\n<div data-block="true" data-editor="fhhbp" data-offset-key="d5b0g-0-0" style="font-family: Helvetica\, Arial\, sans-serif\; color: rgb(28\, 30\, 33)\; font-size: 12px\; white-space: pre-wrap\; background-color: rgb(255\, 255\, 255)\;">\n<div class="_1mf _1mj" data-offset-key="d5b0g-0-0" style="position: relative\; direction: ltr\; font-family: inherit\;">&nbsp\;</div>\n</div>\n\n<div data-block="true" data-editor="fhhbp" data-offset-key="4uv6i-0-0" style="font-family: Helvetica\, Arial\, sans-serif\; color: rgb(28\, 30\, 33)\; font-size: 12px\; white-space: pre-wrap\; background-color: rgb(255\, 255\, 255)\;">\n<div class="_1mf _1mj" data-offset-key="4uv6i-0-0" style="position: relative\; direction: ltr\; font-family: inherit\;"><span data-offset-key="4uv6i-0-0" style="font-family: inherit\;">The event will feature an update from the City of La Porte complete with a Q&amp\;A session. Panel includes Mayor Tom Dermody\, Chief of Police Paul Brettin\, Director of Code Compliance Jeff Batchelor\, and Executive Director of LEAP Bert Cook. Registration will begin at 7:30 a.m.</span></div>\n</div>\n\n<div data-block="true" data-editor="fhhbp" data-offset-key="egrhs-0-0" style="font-family: Helvetica\, Arial\, sans-serif\; color: rgb(28\, 30\, 33)\; font-size: 12px\; white-space: pre-wrap\; background-color: rgb(255\, 255\, 255)\;">\n<div class="_1mf _1mj" data-offset-key="egrhs-0-0" style="position: relative\; direction: ltr\; font-family: inherit\;">&nbsp\;</div>\n</div>\n\n<div data-block="true" data-editor="fhhbp" data-offset-key="2pba3-0-0" style="font-family: Helvetica\, Arial\, sans-serif\; color: rgb(28\, 30\, 33)\; font-size: 12px\; white-space: pre-wrap\; background-color: rgb(255\, 255\, 255)\;">\n<div class="_1mf _1mj" data-offset-key="2pba3-0-0" style="position: relative\; direction: ltr\; font-family: inherit\;"><span data-offset-key="2pba3-0-0" style="font-family: inherit\;">Space is limited and registration is encouraged. This can be done by using the link to the right. The cost is free for LEAP members and $15 for non-LEAP members.</span></div>\n</div>\n
LOCATION:La Porte County Public Library\, Meeting Room B 904 Indiana Avenue
UID:e.1949.4569
SEQUENCE:3
DTSTAMP:20260424T084558Z
URL:https://members.laportepartnership.com/events/details/community-engagement-series-march-2020-4569
END:VEVENT

END:VCALENDAR
