BEGIN:VCALENDAR
VERSION:2.0
PRODID:-//ChamberMaster//Event Calendar 2.0//EN
METHOD:PUBLISH
X-PUBLISHED-TTL:P3D
REFRESH-INTERVAL:P3D
CALSCALE:GREGORIAN
BEGIN:VEVENT
DTSTART:20190327T233000Z
DTEND:20190328T013000Z
X-MICROSOFT-CDO-ALLDAYEVENT:FALSE
SUMMARY:Community Spell Bowl
DESCRIPTION:Get a team of 4 together and participate in spelling words for fun and prizes. Can't spell well? Go for the Spirit Award instead. Snacks included. $50 for a not-for-profit team\, $100 for a business team
X-ALT-DESC;FMTTYPE=text/html:Get a team of 4 together and participate in spelling words for fun and prizes. Can&#39\;t spell well? Go for the Spirit Award instead. Snacks included. $50 for a not-for-profit team\, $100 for a business team
LOCATION:VFW on McClung Road\, La Porte
UID:e.1949.4297
SEQUENCE:3
DTSTAMP:20260423T183704Z
URL:https://members.laportepartnership.com/events/details/community-spell-bowl-4297
END:VEVENT

END:VCALENDAR
