BEGIN:VCALENDAR
VERSION:2.0
PRODID:-//ChamberMaster//Event Calendar 2.0//EN
METHOD:PUBLISH
X-PUBLISHED-TTL:P3D
REFRESH-INTERVAL:P3D
CALSCALE:GREGORIAN
BEGIN:VEVENT
DTSTART:20161211T000000Z
DTEND:20161211T050000Z
X-MICROSOFT-CDO-ALLDAYEVENT:FALSE
SUMMARY:Company Holiday Party 2016
DESCRIPTION:Join Heston Hills Event Center on December 10 for their Company Holiday Party 2016. No party is too large or too small. Heston Hills would like to invite you to our company holiday party. Whether you are group of six or a company of 60\, we will make your holiday party complete. The event will take place from 6 p.m.- 11 p.m. and will feature appetizers\, dinner buffet (including award-winning prime rib)\, coffee & desserts\, and music & dancing. The cost is $45 per person inclusive. Small businesses\, office parties\, clubs\, or groups of friends- get your group together today! Call for reservations at 219.778.9595 or email info@hestonhills.com.
X-ALT-DESC;FMTTYPE=text/html:<span style="color: rgb(69\, 69\, 69)\; font-family: Arial\, Helvetica\, sans-serif\; font-size: 13.3333px\;">Join Heston Hills Event Center on December 10 for their Company Holiday Party 2016. No party is too large or too small. Heston Hills would like to invite you to our company holiday party. Whether you are group of six or a company of 60\, we will make your holiday party complete. The event will take place from 6 p.m.- 11 p.m. and will feature appetizers\, dinner buffet (including award-winning prime rib)\, coffee &amp\; desserts\, and music &amp\; dancing. The cost is $45 per person inclusive. Small businesses\, office parties\, clubs\, or groups of friends- get your group together today! Call for reservations at 219.778.9595 or email info@hestonhills.com.</span>
LOCATION:Heston Hills Event Center 1933 E. 800 N. La Porte
UID:e.1949.2664
SEQUENCE:3
DTSTAMP:20260425T190930Z
URL:https://members.laportepartnership.com/events/details/company-holiday-party-2016-2664
END:VEVENT

END:VCALENDAR
