BEGIN:VCALENDAR
VERSION:2.0
PRODID:-//ChamberMaster//Event Calendar 2.0//EN
METHOD:PUBLISH
X-PUBLISHED-TTL:P3D
REFRESH-INTERVAL:P3D
CALSCALE:GREGORIAN
BEGIN:VEVENT
DTSTART:20161219T173000Z
DTEND:20161219T190000Z
X-MICROSOFT-CDO-ALLDAYEVENT:FALSE
SUMMARY:Continuing and Adult Education Information Session: Holiday Celebration
DESCRIPTION:Tired of not finding a better job because you need more education?\n\nContinuing and Adult Education Information Session:\n\nHoliday Celebration\n\nWhen: Monday\, December 19th\n\n11:30am-1:00pm\n\nWhere: La Porte WorkOne\n\nLight refreshments served.\n\nCall 219-362-2175 ext. 532
X-ALT-DESC;FMTTYPE=text/html:Tired of not finding a better job because you need more education?<br />\nContinuing and Adult Education Information Session:<br />\nHoliday Celebration<br />\nWhen: Monday\, December 19th<br />\n11:30am-1:00pm<br />\nWhere: La Porte WorkOne<br />\nLight refreshments served.<br />\nCall 219-362-2175 ext. 532
LOCATION:La Porte WorkOne 300 Legacy Plaza West
UID:e.1949.2686
SEQUENCE:3
DTSTAMP:20260425T191152Z
URL:https://members.laportepartnership.com/events/details/continuing-and-adult-education-information-session-holiday-celebration-2686
END:VEVENT

END:VCALENDAR
