BEGIN:VCALENDAR
VERSION:2.0
PRODID:-//ChamberMaster//Event Calendar 2.0//EN
METHOD:PUBLISH
X-PUBLISHED-TTL:P3D
REFRESH-INTERVAL:P3D
CALSCALE:GREGORIAN
BEGIN:VEVENT
DTSTART:20160801T163000Z
DTEND:20160801T180000Z
X-MICROSOFT-CDO-ALLDAYEVENT:FALSE
SUMMARY:Continuing and Adult Education Information Session- WorkOne
DESCRIPTION:Are you thinking about completing your High School education?\n\n\n\nTired of not finding a better job because you need more education?\n\nCome to the continuing and adult education information session on August 1st from 11:30 a.m.-1:00 p.m. at La Porte WorkOne\, 300 Legacy Plaza West. Light refreshments will be served. Call 219-362-2175\, ext. 532.
X-ALT-DESC;FMTTYPE=text/html:Are you thinking about completing your High School education?<br />\n<br />\nTired of not finding a better job because you need more education?<br />\nCome to the continuing and adult education information session on August 1st from 11:30 a.m.-1:00 p.m. at La Porte WorkOne\, 300 Legacy Plaza West. Light refreshments will be served. Call 219-362-2175\, ext. 532.
LOCATION:La Porte WorkOne 300 Legacy Plaza West
UID:e.1949.2603
SEQUENCE:3
DTSTAMP:20260426T021518Z
URL:https://members.laportepartnership.com/events/details/continuing-and-adult-education-information-session-workone-08-01-2016-2603
END:VEVENT

END:VCALENDAR
