BEGIN:VCALENDAR
VERSION:2.0
PRODID:-//ChamberMaster//Event Calendar 2.0//EN
METHOD:PUBLISH
X-PUBLISHED-TTL:P3D
REFRESH-INTERVAL:P3D
CALSCALE:GREGORIAN
BEGIN:VEVENT
DTSTART:20171220T220000Z
DTEND:20171220T223000Z
X-MICROSOFT-CDO-ALLDAYEVENT:FALSE
SUMMARY:Country Caterers & Fahrenheit Tanning Ribbon Cutting
DESCRIPTION:Join in for two ribbon cuttings in Downtown La Porte on December 20 at 4:00 p.m. The Country Caterers & Fahrenheit Tanning will be celebrating the opening of the two businesses located at 601 Lincolnway by performing a ribbon cutting administered by the Greater La Porte Chamber of Commerce. The businesses are owned by sisters.\n\nThe Country Caterers offers catering services for luncheons to weddings. The business is able to meet the needs of their customers far beyond their expectations. At this new location\, The Country Caterers has a tasting room for interested customers to try out different menu items for their catering needs.\n\nFahrenheit Tanning is a professional tanning salon located adjacent to The Country Caterers. Services offered include UV tanning as well as custom airbrush spray tans. They strive to provide their customers with the best tanning experience through great customer service\, fresh bulbs\, professional airbrushed spray tans\, comprehensive tanning product knowledge\, and competitive pricing.\n\nTo learn more about The Country Caterers\, go to their Facebook page or visit www.thecountrycaterers.com. For more information about Fahrenheit Tanning\, go to their Facebook page or visit www.tanfahrenheit.com. For more information about the Greater La Porte Chamber of Commerce\, visit www.lpchamber.com\, like their Facebook page\, or call 219.362.3178.
X-ALT-DESC;FMTTYPE=text/html:<span style="font-family:georgia\,serif\;"><span style="font-size:12.0pt\;">Join in for two ribbon cuttings in Downtown La Porte on December 20 at 4:00 p.m. The Country Caterers &amp\; Fahrenheit Tanning will be celebrating the opening of the two businesses located at 601 Lincolnway by performing a ribbon cutting administered by the Greater La Porte Chamber of Commerce. The businesses are owned by sisters.</span></span><br />\n<span style="font-family:georgia\,serif\;"><span style="font-size:12.0pt\;">The Country Caterers offers catering services for luncheons to weddings. The business is able to meet the needs of their customers far beyond their expectations. At this new location\, The Country Caterers has a tasting room for interested customers to try out different menu items for their catering needs.</span></span><br />\n<span style="font-family:georgia\,serif\;"><span style="font-size:12.0pt\;">Fahrenheit Tanning is a professional tanning salon located adjacent to The Country Caterers. Services offered include UV tanning as well as custom airbrush spray tans. They strive to provide their customers with the best tanning experience through great customer service\, fresh bulbs\, professional airbrushed spray tans\, comprehensive tanning product knowledge\, and competitive pricing.</span></span><br />\n<span style="font-family:georgia\,serif\;"><span style="font-size:12.0pt\;">To learn more about The Country Caterers\, go to their Facebook page or visit www.thecountrycaterers.com. For more information about Fahrenheit Tanning\, go to their Facebook page or visit www.tanfahrenheit.com. For more information about the Greater La Porte Chamber of Commerce\, visit www.lpchamber.com\, like their Facebook page\, or call 219.362.3178.</span></span>
LOCATION:The Country Caterers & Fahrenheit Tanning 601 Lincolnway La Porte
UID:e.1949.2969
SEQUENCE:3
DTSTAMP:20260424T193706Z
URL:https://members.laportepartnership.com/events/details/country-caterers-fahrenheit-tanning-ribbon-cutting-2969
END:VEVENT

END:VCALENDAR
