BEGIN:VCALENDAR
VERSION:2.0
PRODID:-//ChamberMaster//Event Calendar 2.0//EN
METHOD:PUBLISH
X-PUBLISHED-TTL:P3D
REFRESH-INTERVAL:P3D
CALSCALE:GREGORIAN
BEGIN:VEVENT
DTSTART:20181011T223000Z
DTEND:20181012T003000Z
X-MICROSOFT-CDO-ALLDAYEVENT:FALSE
SUMMARY:County and State Candidates Forum - LPAC
DESCRIPTION:The La Porte Political Action Committee (LPAC) in partnership with Farm Bureau of La Porte County\, La Porte County Better Government Study Group\, La Porte Herald-Argus\, La Porte Jaycees\, League of Women Voters of La Porte County and other community partners will host a County and State Candidates Forum for the 2018 La Porte County and State Elections on Thursday\, October 11\, at 5:30 p.m. The forum will be held at the La Porte Civic Auditorium\, 1001 Ridge Street in La Porte. The purpose of LPAC is to educate the community on the issues facing the city\, the county and the state\, and to introduce the candidates to the community. For more information about LPAC visit www.lpchamber.com.
X-ALT-DESC;FMTTYPE=text/html:<div style="color: rgb(69\, 69\, 69)\; font-family: Arial\, Helvetica\, sans-serif\; font-size: 13.3333px\;">The La Porte Political Action Committee (LPAC) in partnership with Farm Bureau of La Porte County\, La Porte County Better Government Study Group\, La Porte Herald-Argus\, La Porte Jaycees\, League of Women Voters of La Porte County and other community partners will host a County and State Candidates Forum for the 2018 La Porte County and State Elections on Thursday\, October 11\, at 5:30 p.m. The forum will be held at the La Porte Civic Auditorium\, 1001 Ridge Street in La Porte. The purpose of LPAC is to educate the community on the issues facing the city\, the county and the state\, and to introduce the candidates to the community.&nbsp\;<span _mce_style="font-size: 10pt\;" style="font-size: 10pt\;">For more information about LPAC visit www.lpchamber.com.</span></div>\n
LOCATION:La Porte Civic Auditorium 1001 Ridge Street La Porte\, IN 46350
UID:e.1949.4237
SEQUENCE:3
DTSTAMP:20260424T024112Z
URL:https://members.laportepartnership.com/events/details/county-and-state-candidates-forum-lpac-10-11-2018-4237
END:VEVENT

END:VCALENDAR
