BEGIN:VCALENDAR
VERSION:2.0
PRODID:-//ChamberMaster//Event Calendar 2.0//EN
METHOD:PUBLISH
X-PUBLISHED-TTL:P3D
REFRESH-INTERVAL:P3D
CALSCALE:GREGORIAN
BEGIN:VEVENT
DTSTART:20161020T230000Z
DTEND:20161021T020000Z
X-MICROSOFT-CDO-ALLDAYEVENT:FALSE
SUMMARY:County and State Candidates Forum- LPAC
DESCRIPTION:The La Porte Political Action Committee (LPAC)and the Farm Bureau of La Porte County will host a Political Forum for the 2016 La Porte County and State Elections on Thursday\, October 20\, at 6:00 p.m. The Political Forum will be held at the La Porte Civic Auditorium\, 1001 Ridge Street in La Porte.\n\nThe purpose of LPAC is to educate the community on the issues facing the city\, the county and the state\, and to introduce the candidates to the community. For more information about LPAC visit www.laportepac.com.
X-ALT-DESC;FMTTYPE=text/html:<div style="color: rgb(69\, 69\, 69)\; font-family: Arial\, Helvetica\, sans-serif\; font-size: 13.3333px\;">The La Porte Political Action Committee (LPAC)and the Farm Bureau of La Porte County will host a Political Forum for the 2016 La Porte County and State Elections on Thursday\, October 20\, at 6:00 p.m. The Political Forum will be held at the La Porte Civic Auditorium\, 1001 Ridge Street in La Porte.</div>\n\n<div style="color: rgb(69\, 69\, 69)\; font-family: Arial\, Helvetica\, sans-serif\; font-size: 13.3333px\;">The purpose of LPAC is to educate the community on the issues facing the city\, the county and the state\, and to introduce the candidates to the community.&nbsp\;<span _mce_style="font-size: 10pt\;" style="font-size: 10pt\;">For more information about LPAC visit&nbsp\;<a _mce_href="http://laportepac.com/" _mce_style="font-weight: bold\; color: #c24f13\; text-decoration: none\;" href="http://laportepac.com/" linktype="1" style="font-weight: bold\; color: rgb(194\, 79\, 19) !important\; text-decoration: none !important\;" target="_blank" track="on">www.laportepac.com</a>.</span></div>\n
LOCATION:La Porte Civic Auditorium 1001 Ridge Street La Porte
UID:e.1949.2650
SEQUENCE:3
DTSTAMP:20260425T223329Z
URL:https://members.laportepartnership.com/events/details/county-and-state-candidates-forum-lpac-2650
END:VEVENT

END:VCALENDAR
