BEGIN:VCALENDAR
VERSION:2.0
PRODID:-//ChamberMaster//Event Calendar 2.0//EN
METHOD:PUBLISH
X-PUBLISHED-TTL:P3D
REFRESH-INTERVAL:P3D
CALSCALE:GREGORIAN
BEGIN:VEVENT
DTSTART:20171014T140000Z
DTEND:20171014T200000Z
X-MICROSOFT-CDO-ALLDAYEVENT:FALSE
SUMMARY:Craft Show at the Salvation Army
DESCRIPTION:The Salvation Army of La Porte will have a Craft Show on October 14! Come to the La Porte location at 3240 Monroe Ave from 9am to 3pm. Many vendors will be there\, and it is sure to be a wonderful time! We hope to see you there.
X-ALT-DESC;FMTTYPE=text/html:<span style="font-family:arial\,sans-serif\;"><span style="font-size:10.0pt\;">The Salvation Army of La Porte will have a Craft Show on October 14! Come to the La Porte location at </span></span><span style="font-family: source-sans-pro\, sans-serif\; font-size: 14px\; background-color: rgb(252\, 252\, 252)\;">3240 Monroe Ave</span><span style="font-family:arial\,sans-serif\;"><span style="font-size:10.0pt\;">&nbsp\;from 9am to 3pm. Many vendors will be there\, and it is sure to be a wonderful time! We hope to see you there.</span></span>
LOCATION:3240 Monroe Street La Porte
UID:e.1949.2909
SEQUENCE:3
DTSTAMP:20260424T230444Z
URL:https://members.laportepartnership.com/events/details/craft-show-at-the-salvation-army-2909
END:VEVENT

END:VCALENDAR
