BEGIN:VCALENDAR
VERSION:2.0
PRODID:-//ChamberMaster//Event Calendar 2.0//EN
METHOD:PUBLISH
X-PUBLISHED-TTL:P3D
REFRESH-INTERVAL:P3D
CALSCALE:GREGORIAN
BEGIN:VEVENT
DTSTART:20171202T150000Z
DTEND:20171202T210000Z
X-MICROSOFT-CDO-ALLDAYEVENT:FALSE
SUMMARY:Crafts for the Holidays 2017
DESCRIPTION:Saturday December 2nd the Westville American Legion Post 21 will be having their annual Crafts for the Holidays event from 9am-3pm. This year we will be combining our show with the Westville Methodist Churches annual craft show and cookie walk from 9am-2pm. Between the two buildings we will have 40-50 vendors with handmade crafts\, direct sale companies\, homemade baked goods and raffles
X-ALT-DESC;FMTTYPE=text/html:Saturday December 2nd the Westville American Legion Post 21 will be having their annual Crafts for the Holidays event from 9am-3pm. This year we will be combining our show with the Westville Methodist Churches annual craft show and cookie walk from 9am-2pm. Between the two buildings we will have 40-50 vendors with handmade crafts\, direct sale companies\, homemade baked goods and raffles
LOCATION:Westville American Legion Post 21 107 N Flynn rd Westville IN
UID:e.1949.2954
SEQUENCE:3
DTSTAMP:20260424T193134Z
URL:https://members.laportepartnership.com/events/details/crafts-for-the-holidays-2017-2954
END:VEVENT

END:VCALENDAR
