BEGIN:VCALENDAR
VERSION:2.0
PRODID:-//ChamberMaster//Event Calendar 2.0//EN
METHOD:PUBLISH
X-PUBLISHED-TTL:P3D
REFRESH-INTERVAL:P3D
CALSCALE:GREGORIAN
BEGIN:VEVENT
DTSTART:20171215T180000Z
DTEND:20171215T183000Z
X-MICROSOFT-CDO-ALLDAYEVENT:FALSE
SUMMARY:Cuts by Angel Ribbon Cutting
DESCRIPTION:Cuts by Angel\, a new barber shop in La Porte\, is holding a grand opening and ribbon cutting on December 15 at noon at their location at 2104 Ohio Street\, Suite A. To celebrate\, the business will perform a ribbon cutting administered by the Greater La Porte Chamber of Commerce.\n\nThe barber shop offers a variety of services including face shaves\, haircuts\, lineups or outlines for beards or necklines\, and kid's cuts. The business also offers discounts those in uniform\, in the military\, or who are senior citizens. Cuts by Angel is open from 9:30 a.m.-6:30 p.m. Monday through Saturday.\n\nTo learn more about Cut's by Angel\, go to their Facebook page or call 219.369.7886. For more information about the Greater La Porte Chamber of Commerce\, visit www.lpchamber.com\, like their Facebook page\, or call 219.362.3178.
X-ALT-DESC;FMTTYPE=text/html:<span style="font-family:georgia\,serif\;"><span style="font-size:12.0pt\;">Cuts by Angel\, a new barber shop in La Porte\, is holding a grand opening and ribbon cutting on December 15 at noon at their location at 2104 Ohio Street\, Suite A. To celebrate\, the business will perform a ribbon cutting administered by the Greater La Porte Chamber of Commerce.</span></span><br />\n<span style="font-family:georgia\,serif\;"><span style="font-size:12.0pt\;">The barber shop offers a variety of services including face shaves\, haircuts\, lineups or outlines for beards or necklines\, and kid&rsquo\;s cuts. The business also offers discounts those in uniform\, in the military\, or who are senior citizens. Cuts by Angel is open from 9:30 a.m.-6:30 p.m. Monday through Saturday.</span></span><br />\n<span style="font-family:georgia\,serif\;"><span style="font-size:12.0pt\;">To learn more about Cut&rsquo\;s by Angel\, go to their Facebook page or call 219.369.7886. For more information about the Greater La Porte Chamber of Commerce\, visit www.lpchamber.com\, like their Facebook page\, or call 219.362.3178.</span></span>
LOCATION:2104 Ohio Street\, Suite A La Porte
UID:e.1949.2968
SEQUENCE:3
DTSTAMP:20260424T213012Z
URL:https://members.laportepartnership.com/events/details/cuts-by-angel-ribbon-cutting-2968
END:VEVENT

END:VCALENDAR
