BEGIN:VCALENDAR
VERSION:2.0
PRODID:-//ChamberMaster//Event Calendar 2.0//EN
METHOD:PUBLISH
X-PUBLISHED-TTL:P3D
REFRESH-INTERVAL:P3D
CALSCALE:GREGORIAN
BEGIN:VEVENT
DTSTART:20180705T210000Z
DTEND:20180705T220000Z
X-MICROSOFT-CDO-ALLDAYEVENT:FALSE
SUMMARY:Dance Foundation of La Porte Ribbon Cutting
DESCRIPTION:The Dance Foundation of La Porte (DFLP LLC) will host a ribbon cutting on July 5 to celebrate its new location and updated space at 910\, 1/2 Lincolnway in La Porte. The ribbon cutting will take place at 4:30 p.m.\, and the community is invited to tour the new facility. The ribbon cutting will be facilitated by the Greater La Porte Chamber of Commerce.\n\n\n\nDFLP LLC has classses offered in ballet\, tap\, jazz\, lyrical\, pointe\, leaps/turns\, stretching & conditioning\, improvisation & composition\, and mini gymnastics for ages 2+. Dance teams are offered for ages 4+ for the season.\n\n\n\nFor more information about the Dance Foundation of La Porte\, call 219.851.1193 or visit thier Facebook page at DFLP LLC.
X-ALT-DESC;FMTTYPE=text/html:The Dance Foundation of La Porte (DFLP LLC) will host a ribbon cutting on July 5 to celebrate its new location and updated space at 910\, 1/2 Lincolnway in La Porte. The ribbon cutting will take place at 4:30 p.m.\, and the community is invited to tour the new facility. The ribbon cutting will be facilitated by the Greater La Porte Chamber of Commerce.<br />\n<br />\nDFLP LLC has classses offered in ballet\, tap\, jazz\, lyrical\, pointe\, leaps/turns\, stretching &amp\; conditioning\, improvisation &amp\; composition\, and mini gymnastics for ages 2+. Dance teams are offered for ages 4+ for the season.<br />\n<br />\nFor more information about the Dance Foundation of La Porte\, call 219.851.1193 or visit thier Facebook page at DFLP LLC.
LOCATION:910 1/2 Lincolnway La Porte
UID:e.1949.4199
SEQUENCE:3
DTSTAMP:20260424T071923Z
URL:https://members.laportepartnership.com/events/details/dance-foundation-of-la-porte-ribbon-cutting-4199
END:VEVENT

END:VCALENDAR
