BEGIN:VCALENDAR
VERSION:2.0
PRODID:-//ChamberMaster//Event Calendar 2.0//EN
METHOD:PUBLISH
X-PUBLISHED-TTL:P3D
REFRESH-INTERVAL:P3D
CALSCALE:GREGORIAN
BEGIN:VEVENT
DTSTART:20180315T210000Z
DTEND:20180315T220000Z
X-MICROSOFT-CDO-ALLDAYEVENT:FALSE
SUMMARY:DaVita- La Porte Dialysis Ribbon Cutting
DESCRIPTION:DaVita Dialysis will hold a ribbon cutting on March 15 at 4 p.m. to celebrate its expansion into La Porte. The business will be opening at 1406 E. Lincolnway and will celebrate with an open house following the ribbon cutting until 7 p.m. The business will offer refreshments and tours of the facility and provide an opportunity to meet the staff. All are invited to come see this brand new\, state-of-the-art\, facility that will provide exceptional care in a small and homey environment by dedicated\, highly experienced\, staff. The Greater La Porte Chamber of Commerce will administer the ribbon cutting.\n\nDaVita Kidney Care is a leading provider of kidney care in the United States\, delivering dialysis services to patients with chronic kidney failure and end stage renal disease. As of December 31\, 2017\, DaVita Kidney Care operated or provided administrative services at 2\,510 outpatient dialysis centers located in the United States serving approximately 198\,000 patients. DaVita Kidney Care supports numerous programs dedicated to creating positive\, sustainable change in communities around the world.\n\nTo learn more about DaVita Dialysis\, visit www.davita.com. For more information about the Greater La Porte Chamber of Commerce\, visit www.lpchamber.com\, like their Facebook page\, or call 219.362.3178.
X-ALT-DESC;FMTTYPE=text/html:<span style="font-family:georgia\,serif\;"><span style="font-size:12.0pt\;">DaVita Dialysis will hold a ribbon cutting on March 15 at 4 p.m. to celebrate its expansion into La Porte. The business will be opening at 1406 E. Lincolnway and will celebrate with an open house following the ribbon cutting until 7 p.m. The business will offer refreshments and tours of the facility and provide an opportunity to meet the staff. All are invited to come see this brand new\, state-of-the-art\, facility that will provide exceptional care in a small and homey environment by dedicated\, highly experienced\, staff. The Greater La Porte Chamber of Commerce will administer the ribbon cutting.</span></span><br />\n<span style="font-family:georgia\,serif\;"><span style="font-size:12.0pt\;">DaVita Kidney Care is a leading provider of kidney care in the United States\, delivering dialysis services to patients with chronic kidney failure and end stage renal disease. As of December 31\, 2017\, DaVita Kidney Care operated or provided administrative services at 2\,510 outpatient dialysis centers located in the United States serving approximately 198\,000 patients. DaVita Kidney Care supports numerous programs dedicated to creating positive\, sustainable change in communities around the world.</span></span><br />\n<span style="font-family:georgia\,serif\;"><span style="font-size:12.0pt\;">To learn more about DaVita Dialysis\, visit www.davita.com. For more information about the Greater La Porte Chamber of Commerce\, visit www.lpchamber.com\, like their Facebook page\, or call 219.362.3178.</span></span>
LOCATION:DaVita Dialysis 1406 E. Lincolnway
UID:e.1949.3050
SEQUENCE:3
DTSTAMP:20260424T134617Z
URL:https://members.laportepartnership.com/events/details/davita-la-porte-dialysis-ribbon-cutting-3050
END:VEVENT

END:VCALENDAR
