BEGIN:VCALENDAR
VERSION:2.0
PRODID:-//ChamberMaster//Event Calendar 2.0//EN
METHOD:PUBLISH
X-PUBLISHED-TTL:P3D
REFRESH-INTERVAL:P3D
CALSCALE:GREGORIAN
BEGIN:VEVENT
DTSTART:20171214T140000Z
DTEND:20171214T183000Z
X-MICROSOFT-CDO-ALLDAYEVENT:FALSE
SUMMARY:Developing Yourself and Others- Managing with Impact\, Ivy Tech
DESCRIPTION:In this course\, learners are introduced to a practical process to guie their own and their direct reports' development-planning efforts. The outcome is a meaningful development plan that supports the organization's current and future business needs.
X-ALT-DESC;FMTTYPE=text/html:In this course\, learners are introduced to a practical process to guie their own and their direct reports&#39\; development-planning efforts. The outcome is a meaningful development plan that supports the organization&#39\;s current and future business needs.
LOCATION:Ivy Tech Community College 1900 Whirlpool Drive La Porte
UID:e.1949.2966
SEQUENCE:3
DTSTAMP:20260424T193121Z
URL:https://members.laportepartnership.com/events/details/developing-yourself-and-others-managing-with-impact-ivy-tech-2966
END:VEVENT

END:VCALENDAR
